Workbook

Sheet JAN 20
A2: PEMERINTAH KABUPATEN BANGLI
A3: KECAMATAN TEMBUKU, PERBEKEL DESA TEMBUKU
A5: LAPORAN PENDUDUK
A6: BULAN : JANUARI 2017 | B6: AN : JANUARI 2020
W7: WARGA NEGARA R.I
A8: NO | B8: BANJAR DINAS | C8: PENDUDUK AWAL BULAN INI | F8: LAHIR BULAN INI | I8: MENINGGAL BULAN INI | L8: PENDATANG BULAN INI | O8: PINDAH BULAN INI | R8: DP.4 (17 Th Ke Atas) | U8: JMLH KK | V8: PENDUDUK AKHIR BULAN INI
C9: L | D9: P | E9: L+P | F9: L | G9: P | H9: L+P | I9: L | J9: P | K9: L+P | L9: L | M9: P | N9: L+P | O9: L | P9: P | Q9: L+P | R9: L | S9: P | T9: L+P | V9: L | W9: P | X9: L+P
A10: 1 | B10: KEDUI | C10: 300 | D10: 333 | E10: =+C10+D10 -> 633 | F10: 0 | G10: 0 | H10: =+F10+G10 -> 0 | I10: 0 | J10: 0 | K10: =+I10+J10 -> 0 | L10: 0 | M10: 0 | N10: =+L10+M10 -> 0 | O10: 0 | P10: 0 | Q10: =+O10+P10 -> 0 | T10: =-Z10 -> 0 | U10: 184 | V10: =+C10+F10-I10+L10-O10 -> 300 | W10: =+D10+G10-J10+M10-P10 -> 333 | X10: =+V10+W10 -> 633
A11: 2 | B11: TEGALASAH | C11: 247 | D11: 272 | E11: =+C11+D11 -> 519 | F11: =-E2 -> 0 | G11: 0 | H11: =+F11+G11 -> 0 | I11: 0 | J11: 1 | K11: =+I11+J11 -> 1 | L11: 0 | N11: =+L11+M11 -> 0 | O11: 0 | Q11: =+O11+P11 -> 0 | T11: =+R11+S11 -> 0 | U11: 131 | V11: 247 | W11: =+D11+G11-J11+M11-P11 -> 271 | X11: =+V11+W11 -> 518
A12: 3 | B12: PENIDA KAJA | C12: 498 | D12: 507 | E12: =+C12+D12 -> 1005 | F12: 1 | G12: 0 | H12: =+F12+G12 -> 1 | I12: 1 | J12: 0 | K12: =+I12+J12 -> 1 | L12: 0 | O12: 0 | Q12: =+O12+P12 -> 0 | T12: =+R12+S12 -> 0 | U12: 268 | V12: =+C12+F12-I12+L12-O12 -> 498 | W12: =+D12+G12-J12+M12-P12 -> 507 | X12: =+V12+W12 -> 1005
A13: 4 | B13: PENIDA KELOD | C13: 854 | D13: 623 | E13: 1207 | F13: 1 | G13: 0 | H13: =+F13+G13 -> 1 | I13: 1 | J13: 0 | K13: =+I13+J13 -> 1 | L13: =-R22 -> 0 | O13: 0 | Q13: =+O13+P13 -> 0 | T13: =+R13+S13 -> 0 | U13: 313 | V13: =+C13+F13-I13+L13-O13 -> 854 | W13: =+D13+G13-J13+M13-P13 -> 623 | X13: 1207
A14: 5 | B14: TEMBUKU KAJA | C14: =+'[1]DES 16'!V14 -> 203 | D14: =+'[1]DES 16'!W14 -> 202 | E14: =+C14+D14 -> 405 | F14: 1 | G14: 0 | H14: =+F14+G14 -> 1 | I14: 0 | J14: 0 | K14: =+I14+J14 -> 0 | L14: 0 | M14: 0 | N14: =+L14+M14 -> 0 | O14: 0 | P14: 0 | Q14: =+O14+P14 -> 0 | T14: =+R14+S14 -> 0 | U14: 113 | V14: =+C14+F14-I14+L14-O14 -> 204 | W14: =+D14+G14-J14+M14-P14 -> 202 | X14: =+V14+W14 -> 406
A15: 6 | B15: TEMBUKU KAWAN | C15: =+'[1]DES 16'!V15 -> 296 | D15: =+'[1]DES 16'!W15 -> 290 | E15: =+C15+D15 -> 586 | F15: 0 | G15: 0 | H15: =+F15+G15 -> 0 | I15: 1 | J15: 0 | K15: =+I15+J15 -> 1 | L15: 0 | M15: 0 | N15: =+L15+M15 -> 0 | O15: 0 | P15: 0 | Q15: =+O15+P15 -> 0 | T15: =+R15+S15 -> 0 | U15: 163 | V15: =+C15+F15-I15+L15-O15 -> 295 | W15: =+D15+G15-J15+M15-P15 -> 290 | X15: =+V15+W15 -> 585
A16: 7 | B16: TEMBUKU BAKAS | C16: =+'[1]DES 16'!V16 -> 177 | D16: =+'[1]DES 16'!W16 -> 170 | E16: =+C16+D16 -> 347 | F16: 0 | G16: 0 | H16: =+F16+G16 -> 0 | I16: 0 | J16: 0 | K16: =+I16+J16 -> 0 | L16: 0 | M16: 0 | N16: =+L16+M16 -> 0 | O16: 0 | P16: 0 | Q16: =+O16+P16 -> 0 | T16: =+R16+S16 -> 0 | U16: 124 | V16: =+C16+F16-I16+L16-O16 -> 177 | W16: =+D16+G16-J16+M16-P16 -> 170 | X16: =+V16+W16 -> 347
A17: 8 | B17: TEMBUKU SESETAN | C17: =+'[1]DES 16'!V17 -> 105 | D17: =+'[1]DES 16'!W17 -> 195 | E17: =+C17+D17 -> 300 | F17: 0 | G17: 0 | H17: =+F17+G17 -> 0 | I17: 0 | J17: 0 | K17: =+I17+J17 -> 0 | L17: 0 | M17: 0 | N17: =+L17+M17 -> 0 | O17: 0 | P17: 0 | Q17: =+O17+P17 -> 0 | T17: =+R17+S17 -> 0 | U17: 84 | V17: =+C17+F17-I17+L17-O17 -> 105 | W17: =+D17+G17-J17+M17-P17 -> 195 | X17: =+V17+W17 -> 300
A18: 9 | B18: TEGALASAH KAJA | C18: 140 | D18: 151 | E18: 291 | U18: 89 | V18: 140 | W18: 151 | X18: 191
A19: JUMLAH | C19: =SUM(C10:C18) -> 2820 | D19: =SUM(D10:D18) -> 2743 | E19: =SUM(E10:E18) -> 5293 | F19: =SUM(F10:F18) -> 3 | G19: =SUM(G10:G18) -> 0 | H19: =SUM(H10:H18) -> 3 | I19: =SUM(I10:I18) -> 3 | J19: =SUM(J10:J18) -> 1 | ... X19: =SUM(X10:X18) -> 5192
A22: CATATAN :
B23: PENDATANG | C23: WNI | K23: PINDAH | N23: WNI
C24: L | D24: P | N24: L | O24: P
B25: ANTAR BANJAR | C25: 0 | K25: ANTAR BANJAR | N25: 0
B26: ANTAR DESA | K26: ANTAR DESA | N26: 0 | O26: 0
B27: ANTAR KECAMATAN | K27: ANTAR KECAMATAN | N27: 0 | O27: 0
B28: ANTAR KABUPATEN | K28: ANTAR KABUPATEN | N28: 0
B29: ANTAR PROPINSI | C29: 0 | D29: 0 | K29: ANTAR PROPINSI | N29: 0 | O29: 0
B30: DARI LUAR NEGERI | C30: 0 | D30: 0 | K30: DARI LUAR NEGERI | N30: 0 | O30: 0
B31: JUMLAH | C31: =SUM(C25:C30) -> 0 | D31: =SUM(D25:D30) -> 0 | K31: JUMLAH | N31: =SUM(N25:N30) -> 0

Sheet FEB 20
A2: PEMERINTAH KABUPATEN BANGLI
A3: KECAMATAN TEMBUKU, PERBEKEL DESA TEMBUKU
A5: LAPORAN PENDUDUK
A6: BULAN : FEBRUARI 2020
W7: WARGA NEGARA R.I
A8: NO | B8: BANJAR DINAS | C8: PENDUDUK AWAL BULAN INI | F8: LAHIR BULAN INI | I8: MENINGGAL BULAN INI | L8: PENDATANG BULAN INI | O8: PINDAH BULAN INI | R8: DP.4 (17 Th Ke Atas) | U8: JMLH KK | V8: PENDUDUK AKHIR BULAN INI
C9: L | D9: P | E9: L+P | F9: L | G9: P | H9: L+P | I9: L | J9: P | K9: L+P | L9: L | M9: P | N9: L+P | O9: L | P9: P | Q9: L+P | R9: L | S9: P | T9: L+P | V9: L | W9: P | X9: L+P
A10: 1 | B10: KEDUI | C10: 315 | D10: 325 | E10: =+C10+D10 -> 640 | N10: =+L10+M10 -> 0 | Q10: =+O10+P10 -> 0 | T10: =+R10+S10 -> 0 | U10: 189 | V10: =+C10+F10-I10+L10-O10 -> 315 | W10: =+D10+G10-J10+M10-P10 -> 325 | X10: =+V10+W10 -> 640
A11: 2 | B11: TEGALASAH | C11: 247 | D11: 271 | E11: =+C11+D11 -> 518 | K11: =+I11+J11 -> 0 | N11: =+L11+M11 -> 0 | Q11: =+O11+P11 -> 0 | T11: =+R11+S11 -> 0 | U11: 131 | V11: =+C11+F11-I11+L11-O11 -> 247 | W11: =+D11+G11-J11+M11-P11 -> 271 | X11: =+V11+W11 -> 518
A12: 3 | B12: PENIDA KAJA | C12: 496 | D12: 518 | E12: =+C12+D12 -> 1014 | K12: =+I12+J12 -> 0 | N12: =+L12+M12 -> 0 | Q12: =+O12+P12 -> 0 | T12: =+R12+S12 -> 0 | U12: 274 | V12: =+C12+F12-I12+L12-O12 -> 496 | W12: =+D12+G12-J12+M12-P12 -> 518 | X12: =+V12+W12 -> 1014
A13: 4 | B13: PENIDA KELOD | C13: 588 | D13: 615 | E13: =+C13+D13 -> 1203 | G13: 1 | H13: 1 | I13: 2 | J13: 1 | K13: =+I13+J13 -> 3 | N13: =+L13+M13 -> 0 | P13: 1 | Q13: 1 | T13: =+R13+S13 -> 0 | U13: 357 | V13: =+C13+F13-I13+L13-O13 -> 586 | W13: 612 | X13: =+V13+W13 -> 1198
A14: 5 | B14: TEMBUKU KAJA | C14: 204 | D14: 202 | E14: =+C14+D14 -> 406 | K14: =+I14+J14 -> 0 | N14: =+L14+M14 -> 0 | Q14: =+O14+P14 -> 0 | T14: =+R14+S14 -> 0 | U14: 113 | V14: =+C14+F14-I14+L14-O14 -> 204 | W14: =+D14+G14-J14+M14-P14 -> 202 | X14: =+V14+W14 -> 406
A15: 6 | B15: TEMBUKU KAWAN | C15: 295 | D15: 290 | E15: =+C15+D15 -> 585 | K15: =+I15+J15 -> 0 | N15: =+L15+M15 -> 0 | Q15: =+O15+P15 -> 0 | T15: =+R15+S15 -> 0 | U15: 166 | V15: =+C15+F15-I15+L15-O15 -> 295 | W15: =+D15+G15-J15+M15-P15 -> 290 | X15: =+V15+W15 -> 585
A16: 7 | B16: TEMBUKU BAKAS | C16: 177 | D16: 170 | E16: =+C16+D16 -> 347 | K16: =+I16+J16 -> 0 | N16: =+L16+M16 -> 0 | Q16: =+O16+P16 -> 0 | T16: =+R16+S16 -> 0 | U16: 124 | V16: =+C16+F16-I16+L16-O16 -> 177 | W16: =+D16+G16-J16+M16-P16 -> 170 | X16: =+V16+W16 -> 347
A17: 8 | B17: TEMBUKU SESETAN | C17: 105 | D17: 195 | E17: =+C17+D17 -> 300 | K17: =+I17+J17 -> 0 | N17: =+L17+M17 -> 0 | Q17: =+O17+P17 -> 0 | T17: =+R17+S17 -> 0 | U17: 84 | V17: =+C17+F17-I17+L17-O17 -> 105 | W17: =+D17+G17-J17+M17-P17 -> 195 | X17: =+V17+W17 -> 300
A18: 9 | B18: TEGALASAH KAJA | C18: 140 | D18: 151 | E18: =+C18+D18 -> 291 | U18: 89 | V18: =+C18+F18-I18+L18-O18 -> 140 | W18: =+D18+G18-J18+M18-P18 -> 151 | X18: =+V18+W18 -> 291
A19: JUMLAH | C19: =SUM(C10:C18) -> 2567 | D19: =SUM(D10:D18) -> 2737 | E19: =SUM(E10:E18) -> 5304 | F19: =SUM(F10:F18) -> 0 | G19: =SUM(G10:G18) -> 1 | H19: =SUM(H10:H18) -> 1 | I19: =SUM(I10:I18) -> 2 | J19: =SUM(J10:J18) -> 1 | ... X19: =SUM(X10:X18) -> 5299
A22: CATATAN :
B23: PENDATANG | C23: WNI | K23: PINDAH | N23: WNI
C24: L | D24: P | N24: L | O24: P
B25: ANTAR BANJAR | C25: 0 | D25: 0 | K25: ANTAR BANJAR | N25: 0 | O25: 0
B26: ANTAR DESA | C26: 0 | D26: 0 | K26: ANTAR DESA | N26: 0 | O26: 1
B27: ANTAR KECAMATAN | C27: 0 | D27: 0 | K27: ANTAR KECAMATAN | N27: 0 | O27: 0
B28: ANTAR KABUPATEN | C28: 0 | D28: 0 | K28: ANTAR KABUPATEN | N28: 0
B29: ANTAR PROPINSI | C29: 0 | D29: 0 | K29: ANTAR PROPINSI | N29: 0 | O29: 0
B30: DARI LUAR NEGERI | C30: 0 | D30: 0 | K30: DARI LUAR NEGERI | N30: 0 | O30: 0
B31: JUMLAH | C31: =SUM(C25:C30) -> 0 | D31: =SUM(D25:D30) -> 0 | K31: JUMLAH | N31: =SUM(N25:N30) -> 0 | O31: 1

Sheet MAR 20
A2: PEMERINTAH KABUPATEN BANGLI
A3: KECAMATAN TEMBUKU, PERBEKEL DESA TEMBUKU
A5: LAPORAN PENDUDUK
A6: BULAN : MARET 2020
W7: WARGA NEGARA R.I
A8: NO | B8: BANJAR DINAS | C8: PENDUDUK AWAL BULAN INI | F8: LAHIR BULAN INI | I8: MENINGGAL BULAN INI | L8: PENDATANG BULAN INI | O8: PINDAH BULAN INI | R8: DP.4 (17 Th Ke Atas) | U8: JMLH KK | V8: PENDUDUK AKHIR BULAN INI
C9: L | D9: P | E9: L+P | F9: L | G9: P | H9: L+P | I9: L | J9: P | K9: L+P | L9: L | M9: P | N9: L+P | O9: L | P9: P | Q9: L+P | R9: L | S9: P | T9: L+P | V9: L | W9: P | X9: L+P
A10: 1 | B10: KEDUI | C10: =+'FEB 20'!V10 -> 315 | D10: =+'FEB 20'!W10 -> 325 | E10: =+C10+D10 -> 640 | K10: =+I10+J10 -> 0 | N10: =+L10+M10 -> 0 | Q10: =+O10+P10 -> 0 | U10: 189 | V10: =+C10+F10-I10+L10-O10 -> 315 | W10: =+D10+G10-J10+M10-P10 -> 325 | X10: =+V10+W10 -> 640
A11: 2 | B11: TEGALASAH | C11: =+'FEB 20'!V11 -> 247 | D11: =+'FEB 20'!W11 -> 271 | E11: =+C11+D11 -> 518 | H11: =+F11+G11 -> 0 | J11: 1 | K11: =+I11+J11 -> 1 | N11: =+L11+M11 -> 0 | Q11: =+O11+P11 -> 0 | U11: 131 | V11: =+C11+F11-I11+L11-O11 -> 247 | W11: =+D11+G11-J11+M11-P11 -> 270 | X11: =+V11+W11 -> 517
A12: 3 | B12: PENIDA KAJA | C12: =+'FEB 20'!V12 -> 496 | D12: =+'FEB 20'!W12 -> 518 | E12: =+C12+D12 -> 1014 | G12: 1 | H12: =+F12+G12 -> 1 | I12: 1 | J12: 1 | K12: =+I12+J12 -> 2 | N12: =+L12+M12 -> 0 | Q12: =+O12+P12 -> 0 | U12: 273 | V12: =+C12+F12-I12+L12-O12 -> 495 | W12: =+D12+G12-J12+M12-P12 -> 518 | X12: =+V12+W12 -> 1013
A13: 4 | B13: PENIDA KELOD | C13: =+'FEB 20'!V13 -> 586 | D13: =+'FEB 20'!W13 -> 612 | E13: =+C13+D13 -> 1198 | J13: 1 | K13: =+I13+J13 -> 1 | Q13: =+O13+P13 -> 0 | U13: 357 | V13: =+C13+F13-I13+L13-O13 -> 586 | W13: 612 | X13: =+V13+W13 -> 1198
A14: 5 | B14: TEMBUKU KAJA | C14: =+'FEB 20'!V14 -> 204 | D14: =+'FEB 20'!W14 -> 202 | E14: =+C14+D14 -> 406 | H14: =+F14+G14 -> 0 | K14: =+I14+J14 -> 0 | N14: =+L14+M14 -> 0 | Q14: =+O14+P14 -> 0 | U14: 113 | V14: =+C14+F14-I14+L14-O14 -> 204 | W14: =+D14+G14-J14+M14-P14 -> 202 | X14: =+V14+W14 -> 406
A15: 6 | B15: TEMBUKU KAWAN | C15: =+'FEB 20'!V15 -> 295 | D15: =+'FEB 20'!W15 -> 290 | E15: =+C15+D15 -> 585 | H15: =+F15+G15 -> 0 | K15: =+I15+J15 -> 0 | N15: =+L15+M15 -> 0 | Q15: =+O15+P15 -> 0 | U15: 166 | V15: =+C15+F15-I15+L15-O15 -> 295 | W15: =+D15+G15-J15+M15-P15 -> 290 | X15: =+V15+W15 -> 585
A16: 7 | B16: TEMBUKU BAKAS | C16: =+'FEB 20'!V16 -> 177 | D16: =+'FEB 20'!W16 -> 170 | E16: =+C16+D16 -> 347 | H16: =+F16+G16 -> 0 | K16: =+I16+J16 -> 0 | N16: =+L16+M16 -> 0 | Q16: =+O16+P16 -> 0 | U16: 124 | V16: =+C16+F16-I16+L16-O16 -> 177 | W16: =+D16+G16-J16+M16-P16 -> 170 | X16: =+V16+W16 -> 347
A17: 8 | B17: TEMBUKU SESETAN | C17: =+'FEB 20'!V17 -> 105 | D17: =+'FEB 20'!W17 -> 195 | E17: =+C17+D17 -> 300 | H17: =+F17+G17 -> 0 | K17: =+I17+J17 -> 0 | N17: =+L17+M17 -> 0 | Q17: =+O17+P17 -> 0 | U17: 84 | V17: =+C17+F17-I17+L17-O17 -> 105 | W17: =+D17+G17-J17+M17-P17 -> 195 | X17: =+V17+W17 -> 300
A18: 9 | B18: TEGALASAH KAJA | C18: 140 | D18: 151 | E18: 291 | U18: 89 | V18: 140 | W18: 151 | X18: 291
A19: JUMLAH | C19: =SUM(C10:C18) -> 2565 | D19: =SUM(D10:D18) -> 2734 | E19: =SUM(E10:E18) -> 5299 | F19: =SUM(F10:F18) -> 0 | G19: =SUM(G10:G18) -> 1 | H19: =SUM(H10:H18) -> 1 | I19: =SUM(I10:I18) -> 1 | J19: =SUM(J10:J18) -> 3 | ... Q19: =SUM(Q10:Q18) -> 0 | U19: =SUM(U10:U18) -> 1526 | V19: =SUM(V10:V18) -> 2564 | W19: =SUM(W10:W18) -> 2733 | X19: =SUM(X10:X18) -> 5297
A22: CATATAN :
B23: PENDATANG | C23: WNI | K23: PINDAH | N23: WNI
C24: L | D24: P | N24: L | O24: P
B25: ANTAR BANJAR | C25: 0 | D25: 0 | K25: ANTAR BANJAR | N25: 0 | O25: 0
B26: ANTAR DESA | C26: 0 | D26: 0 | K26: ANTAR DESA | N26: 0 | O26: 0
B27: ANTAR KECAMATAN | C27: 0 | D27: 0 | K27: ANTAR KECAMATAN | N27: 0
B28: ANTAR KABUPATEN | C28: 0 | K28: ANTAR KABUPATEN | N28: 0 | O28: 0
B29: ANTAR PROPINSI | C29: 0 | D29: 0 | K29: ANTAR PROPINSI | N29: 0 | O29: 0
B30: DARI LUAR NEGERI | C30: 0 | D30: 0 | K30: DARI LUAR NEGERI | N30: 0 | O30: 0
B31: JUMLAH | C31: =SUM(C25:C30) -> 0 | D31: =SUM(D25:D30) -> 0 | K31: JUMLAH | N31: =SUM(N25:N30) -> 0 | O31: =SUM(O25:O30) -> 0

Sheet APR 20
A2: PEMERINTAH KABUPATEN BANGLI
A3: KECAMATAN TEMBUKU, PERBEKEL DESA TEMBUKU
A5: LAPORAN PENDUDUK
A6: BULAN : APRIL 2020
W7: WARGA NEGARA R.I
A8: NO | B8: BANJAR DINAS | C8: PENDUDUK AWAL BULAN INI | F8: LAHIR BULAN INI | I8: MENINGGAL BULAN INI | L8: PENDATANG BULAN INI | O8: PINDAH BULAN INI | R8: DP.4 (17 Th Ke Atas) | U8: JMLH KK | V8: PENDUDUK AKHIR BULAN INI
C9: L | D9: P | E9: L+P | F9: L | G9: P | H9: L+P | I9: L | J9: P | K9: L+P | L9: L | M9: P | N9: L+P | O9: L | P9: P | Q9: L+P | R9: L | S9: P | T9: L+P | V9: L | W9: P | X9: L+P
A10: 1 | B10: KEDUI | C10: =+'FEB 20'!V10 -> 315 | D10: =+'FEB 20'!W10 -> 325 | E10: =+C10+D10 -> 640 | K10: =+I10+J10 -> 0 | N10: =+L10+M10 -> 0 | Q10: =+O10+P10 -> 0 | U10: 189 | V10: =+C10+F10-I10+L10-O10 -> 315 | W10: =+D10+G10-J10+M10-P10 -> 325 | X10: =+V10+W10 -> 640
A11: 2 | B11: TEGALASAH | C11: =+'FEB 20'!V11 -> 247 | D11: 270 | E11: =+C11+D11 -> 517 | H11: =+F11+G11 -> 0 | N11: =+L11+M11 -> 0 | Q11: =+O11+P11 -> 0 | U11: 131 | V11: =+C11+F11-I11+L11-O11 -> 247 | W11: =+D11+G11-J11+M11-P11 -> 270 | X11: =+V11+W11 -> 517
A12: 3 | B12: PENIDA KAJA | C12: 495 | D12: =+'FEB 20'!W12 -> 518 | E12: =+C12+D12 -> 1013 | N12: =+L12+M12 -> 0 | Q12: =+O12+P12 -> 0 | U12: 273 | V12: =+C12+F12-I12+L12-O12 -> 495 | W12: =+D12+G12-J12+M12-P12 -> 518 | X12: =+V12+W12 -> 1013
A13: 4 | B13: PENIDA KELOD | C13: =+'FEB 20'!V13 -> 586 | D13: =+'FEB 20'!W13 -> 612 | E13: =+C13+D13 -> 1198 | K13: =+I13+J13 -> 0 | L13: 3 | M13: 1 | N13: 4 | P13: 2 | Q13: =+O13+P13 -> 2 | U13: 357 | V13: =+C13+F13-I13+L13-O13 -> 589 | W13: 612 | X13: =+V13+W13 -> 1201
A14: 5 | B14: TEMBUKU KAJA | C14: =+'FEB 20'!V14 -> 204 | D14: =+'FEB 20'!W14 -> 202 | E14: =+C14+D14 -> 406 | H14: =+F14+G14 -> 0 | K14: =+I14+J14 -> 0 | N14: =+L14+M14 -> 0 | Q14: =+O14+P14 -> 0 | U14: 113 | V14: =+C14+F14-I14+L14-O14 -> 204 | W14: =+D14+G14-J14+M14-P14 -> 202 | X14: =+V14+W14 -> 406
A15: 6 | B15: TEMBUKU KAWAN | C15: =+'FEB 20'!V15 -> 295 | D15: =+'FEB 20'!W15 -> 290 | E15: =+C15+D15 -> 585 | H15: =+F15+G15 -> 0 | K15: =+I15+J15 -> 0 | N15: =+L15+M15 -> 0 | Q15: =+O15+P15 -> 0 | U15: 166 | V15: =+C15+F15-I15+L15-O15 -> 295 | W15: =+D15+G15-J15+M15-P15 -> 290 | X15: =+V15+W15 -> 585
A16: 7 | B16: TEMBUKU BAKAS | C16: =+'FEB 20'!V16 -> 177 | D16: =+'FEB 20'!W16 -> 170 | E16: =+C16+D16 -> 347 | H16: =+F16+G16 -> 0 | K16: =+I16+J16 -> 0 | N16: =+L16+M16 -> 0 | Q16: =+O16+P16 -> 0 | U16: 124 | V16: =+C16+F16-I16+L16-O16 -> 177 | W16: =+D16+G16-J16+M16-P16 -> 170 | X16: =+V16+W16 -> 347
A17: 8 | B17: TEMBUKU SESETAN | C17: =+'FEB 20'!V17 -> 105 | D17: =+'FEB 20'!W17 -> 195 | E17: =+C17+D17 -> 300 | H17: =+F17+G17 -> 0 | K17: =+I17+J17 -> 0 | N17: =+L17+M17 -> 0 | Q17: =+O17+P17 -> 0 | U17: 84 | V17: =+C17+F17-I17+L17-O17 -> 105 | W17: =+D17+G17-J17+M17-P17 -> 195 | X17: =+V17+W17 -> 300
A18: 9 | B18: TEGALASAH KAJA | C18: 140 | D18: 151 | E18: 291 | U18: 89 | V18: 140 | W18: 151 | X18: 291
A19: JUMLAH | C19: =SUM(C10:C18) -> 2564 | D19: =SUM(D10:D18) -> 2733 | E19: =SUM(E10:E18) -> 5297 | F19: =SUM(F10:F18) -> 0 | G19: =SUM(G10:G18) -> 0 | H19: =SUM(H10:H18) -> 0 | I19: =SUM(I10:I18) -> 0 | J19: =SUM(J10:J18) -> 0 | ... Q19: =SUM(Q10:Q18) -> 2 | U19: =SUM(U10:U18) -> 1526 | V19: =SUM(V10:V18) -> 2567 | W19: =SUM(W10:W18) -> 2733 | X19: =SUM(X10:X18) -> 5300
A22: CATATAN :
B23: PENDATANG | C23: WNI | K23: PINDAH | N23: WNI
C24: L | D24: P | N24: L | O24: P
B25: ANTAR BANJAR | C25: 0 | D25: 0 | K25: ANTAR BANJAR | N25: 0 | O25: 0
B26: ANTAR DESA | C26: 0 | D26: 0 | K26: ANTAR DESA | N26: 0 | O26: 0
B27: ANTAR KECAMATAN | C27: 0 | D27: 0 | K27: ANTAR KECAMATAN | N27: 0
B28: ANTAR KABUPATEN | C28: 0 | K28: ANTAR KABUPATEN | N28: 0 | O28: 0
B29: ANTAR PROPINSI | C29: 0 | D29: 0 | K29: ANTAR PROPINSI | N29: 0 | O29: 0
B30: DARI LUAR NEGERI | C30: 0 | D30: 0 | K30: DARI LUAR NEGERI | N30: 0 | O30: 0
B31: JUMLAH | C31: =SUM(C25:C30) -> 0 | D31: =SUM(D25:D30) -> 0 | K31: JUMLAH | N31: =SUM(N25:N30) -> 0 | O31: =SUM(O25:O30) -> 0

Sheet MEI 20
A2: PEMERINTAH KABUPATEN BANGLI
A3: KECAMATAN TEMBUKU, PERBEKEL DESA TEMBUKU
A5: LAPORAN PENDUDUK
A6: BULAN : MEI 2020
W7: WARGA NEGARA R.I
A8: NO | B8: BANJAR DINAS | C8: PENDUDUK AWAL BULAN INI | F8: LAHIR BULAN INI | I8: MENINGGAL BULAN INI | L8: PENDATANG BULAN INI | O8: PINDAH BULAN INI | R8: DP.4 (17 Th Ke Atas) | U8: JMLH KK | V8: PENDUDUK AKHIR BULAN INI
C9: L | D9: P | E9: L+P | F9: L | G9: P | H9: L+P | I9: L | J9: P | K9: L+P | L9: L | M9: P | N9: L+P | O9: L | P9: P | Q9: L+P | R9: L | S9: P | T9: L+P | V9: L | W9: P | X9: L+P
A10: 1 | B10: KEDUI | C10: =+'FEB 20'!V10 -> 315 | D10: =+'FEB 20'!W10 -> 325 | E10: =+C10+D10 -> 640 | K10: =+I10+J10 -> 0 | N10: =+L10+M10 -> 0 | Q10: =+O10+P10 -> 0 | U10: 189 | V10: =+C10+F10-I10+L10-O10 -> 315 | W10: =+D10+G10-J10+M10-P10 -> 325 | X10: =+V10+W10 -> 640
A11: 2 | B11: TEGALASAH | C11: =+'FEB 20'!V11 -> 247 | D11: 270 | E11: =+C11+D11 -> 517 | H11: =+F11+G11 -> 0 | N11: =+L11+M11 -> 0 | Q11: =+O11+P11 -> 0 | U11: 131 | V11: =+C11+F11-I11+L11-O11 -> 247 | W11: =+D11+G11-J11+M11-P11 -> 270 | X11: =+V11+W11 -> 517
A12: 3 | B12: PENIDA KAJA | C12: 495 | D12: =+'FEB 20'!W12 -> 518 | E12: =+C12+D12 -> 1013 | N12: =+L12+M12 -> 0 | Q12: =+O12+P12 -> 0 | U12: 274 | V12: =+C12+F12-I12+L12-O12 -> 495 | W12: =+D12+G12-J12+M12-P12 -> 518 | X12: =+V12+W12 -> 1013
A13: 4 | B13: PENIDA KELOD | C13: 589 | D13: =+'FEB 20'!W13 -> 612 | E13: =+C13+D13 -> 1201 | K13: =+I13+J13 -> 0 | U13: 357 | V13: =+C13+F13-I13+L13-O13 -> 589 | W13: 612 | X13: =+V13+W13 -> 1201
A14: 5 | B14: TEMBUKU KAJA | C14: =+'FEB 20'!V14 -> 204 | D14: =+'FEB 20'!W14 -> 202 | E14: =+C14+D14 -> 406 | H14: =+F14+G14 -> 0 | K14: =+I14+J14 -> 0 | N14: =+L14+M14 -> 0 | Q14: =+O14+P14 -> 0 | U14: 113 | V14: =+C14+F14-I14+L14-O14 -> 204 | W14: =+D14+G14-J14+M14-P14 -> 202 | X14: =+V14+W14 -> 406
A15: 6 | B15: TEMBUKU KAWAN | C15: =+'FEB 20'!V15 -> 295 | D15: =+'FEB 20'!W15 -> 290 | E15: =+C15+D15 -> 585 | H15: =+F15+G15 -> 0 | K15: =+I15+J15 -> 0 | N15: =+L15+M15 -> 0 | Q15: =+O15+P15 -> 0 | U15: 166 | V15: =+C15+F15-I15+L15-O15 -> 295 | W15: =+D15+G15-J15+M15-P15 -> 290 | X15: =+V15+W15 -> 585
A16: 7 | B16: TEMBUKU BAKAS | C16: =+'FEB 20'!V16 -> 177 | D16: =+'FEB 20'!W16 -> 170 | E16: =+C16+D16 -> 347 | H16: =+F16+G16 -> 0 | K16: =+I16+J16 -> 0 | N16: =+L16+M16 -> 0 | Q16: =+O16+P16 -> 0 | U16: 124 | V16: =+C16+F16-I16+L16-O16 -> 177 | W16: =+D16+G16-J16+M16-P16 -> 170 | X16: =+V16+W16 -> 347
A17: 8 | B17: TEMBUKU SESETAN | C17: =+'FEB 20'!V17 -> 105 | D17: =+'FEB 20'!W17 -> 195 | E17: =+C17+D17 -> 300 | H17: =+F17+G17 -> 0 | K17: =+I17+J17 -> 0 | N17: =+L17+M17 -> 0 | Q17: =+O17+P17 -> 0 | U17: 84 | V17: =+C17+F17-I17+L17-O17 -> 105 | W17: =+D17+G17-J17+M17-P17 -> 195 | X17: =+V17+W17 -> 300
A18: 9 | B18: TEGALASAH KAJA | C18: 140 | D18: 151 | E18: 291 | U18: 89 | V18: 140 | W18: 151 | X18: 291
A19: JUMLAH | C19: =SUM(C10:C18) -> 2567 | D19: =SUM(D10:D18) -> 2733 | E19: =SUM(E10:E18) -> 5300 | F19: =SUM(F10:F18) -> 0 | G19: =SUM(G10:G18) -> 0 | H19: =SUM(H10:H18) -> 0 | I19: =SUM(I10:I18) -> 0 | J19: =SUM(J10:J18) -> 0 | ... Q19: =SUM(Q10:Q18) -> 0 | U19: =SUM(U10:U18) -> 1527 | V19: =SUM(V10:V18) -> 2567 | W19: =SUM(W10:W18) -> 2733 | X19: =SUM(X10:X18) -> 5300
A22: CATATAN :
B23: PENDATANG | C23: WNI | K23: PINDAH | N23: WNI
C24: L | D24: P | N24: L | O24: P
B25: ANTAR BANJAR | C25: 0 | D25: 0 | K25: ANTAR BANJAR | N25: 0 | O25: 0
B26: ANTAR DESA | C26: 0 | D26: 0 | K26: ANTAR DESA | N26: 0 | O26: 0
B27: ANTAR KECAMATAN | C27: 0 | D27: 0 | K27: ANTAR KECAMATAN | N27: 0
B28: ANTAR KABUPATEN | C28: 0 | K28: ANTAR KABUPATEN | N28: 0 | O28: 0
B29: ANTAR PROPINSI | C29: 0 | D29: 0 | K29: ANTAR PROPINSI | N29: 0 | O29: 0
B30: DARI LUAR NEGERI | C30: 0 | D30: 0 | K30: DARI LUAR NEGERI | N30: 0 | O30: 0
B31: JUMLAH | C31: =SUM(C25:C30) -> 0 | D31: =SUM(D25:D30) -> 0 | K31: JUMLAH | N31: =SUM(N25:N30) -> 0 | O31: =SUM(O25:O30) -> 0

Sheet JUN 20
A2: PEMERINTAH KABUPATEN BANGLI
A3: KECAMATAN TEMBUKU, PERBEKEL DESA TEMBUKU
A5: LAPORAN PENDUDUK
A6: BULAN : JUNI 2020
W7: WARGA NEGARA R.I
A8: NO | B8: BANJAR DINAS | C8: PENDUDUK AWAL BULAN INI | F8: LAHIR BULAN INI | I8: MENINGGAL BULAN INI | L8: PENDATANG BULAN INI | O8: PINDAH BULAN INI | R8: DP.4 (17 Th Ke Atas) | U8: JMLH KK | V8: PENDUDUK AKHIR BULAN INI
C9: L | D9: P | E9: L+P | F9: L | G9: P | H9: L+P | I9: L | J9: P | K9: L+P | L9: L | M9: P | N9: L+P | O9: L | P9: P | Q9: L+P | R9: L | S9: P | T9: L+P | V9: L | W9: P | X9: L+P
A10: 1 | B10: KEDUI | C10: =+'FEB 20'!V10 -> 315 | D10: =+'FEB 20'!W10 -> 325 | E10: =+C10+D10 -> 640 | K10: =+I10+J10 -> 0 | N10: =+L10+M10 -> 0 | Q10: =+O10+P10 -> 0 | U10: 189 | V10: =+C10+F10-I10+L10-O10 -> 315 | W10: =+D10+G10-J10+M10-P10 -> 325 | X10: =+V10+W10 -> 640
A11: 2 | B11: TEGALASAH | C11: =+'FEB 20'!V11 -> 247 | D11: 270 | E11: =+C11+D11 -> 517 | H11: =+F11+G11 -> 0 | N11: =+L11+M11 -> 0 | Q11: =+O11+P11 -> 0 | U11: 131 | V11: =+C11+F11-I11+L11-O11 -> 247 | W11: =+D11+G11-J11+M11-P11 -> 270 | X11: =+V11+W11 -> 517
A12: 3 | B12: PENIDA KAJA | C12: 495 | D12: =+'FEB 20'!W12 -> 518 | E12: =+C12+D12 -> 1013 | H12: =-H21 -> 0 | N12: =+L12+M12 -> 0 | Q12: =+O12+P12 -> 0 | U12: 274 | V12: =+C12+F12-I12+L12-O12 -> 495 | W12: =+D12+G12-J12+M12-P12 -> 518 | X12: =+V12+W12 -> 1013
A13: 4 | B13: PENIDA KELOD | C13: 589 | D13: =+'FEB 20'!W13 -> 612 | E13: =+C13+D13 -> 1201 | K13: =+I13+J13 -> 0 | U13: 357 | V13: =+C13+F13-I13+L13-O13 -> 589 | W13: 612 | X13: =+V13+W13 -> 1201
A14: 5 | B14: TEMBUKU KAJA | C14: =+'FEB 20'!V14 -> 204 | D14: =+'FEB 20'!W14 -> 202 | E14: =+C14+D14 -> 406 | H14: =+F14+G14 -> 0 | K14: =+I14+J14 -> 0 | N14: =+L14+M14 -> 0 | Q14: =+O14+P14 -> 0 | U14: 113 | V14: =+C14+F14-I14+L14-O14 -> 204 | W14: =+D14+G14-J14+M14-P14 -> 202 | X14: =+V14+W14 -> 406
A15: 6 | B15: TEMBUKU KAWAN | C15: =+'FEB 20'!V15 -> 295 | D15: =+'FEB 20'!W15 -> 290 | E15: =+C15+D15 -> 585 | H15: =+F15+G15 -> 0 | K15: =+I15+J15 -> 0 | N15: =+L15+M15 -> 0 | Q15: =+O15+P15 -> 0 | U15: 166 | V15: =+C15+F15-I15+L15-O15 -> 295 | W15: =+D15+G15-J15+M15-P15 -> 290 | X15: =+V15+W15 -> 585
A16: 7 | B16: TEMBUKU BAKAS | C16: =+'FEB 20'!V16 -> 177 | D16: =+'FEB 20'!W16 -> 170 | E16: =+C16+D16 -> 347 | H16: =+F16+G16 -> 0 | K16: =+I16+J16 -> 0 | N16: =+L16+M16 -> 0 | Q16: =+O16+P16 -> 0 | U16: 124 | V16: =+C16+F16-I16+L16-O16 -> 177 | W16: =+D16+G16-J16+M16-P16 -> 170 | X16: =+V16+W16 -> 347
A17: 8 | B17: TEMBUKU SESETAN | C17: =+'FEB 20'!V17 -> 105 | D17: =+'FEB 20'!W17 -> 195 | E17: =+C17+D17 -> 300 | H17: =+F17+G17 -> 0 | K17: =+I17+J17 -> 0 | N17: =+L17+M17 -> 0 | Q17: =+O17+P17 -> 0 | U17: 103 | V17: 126 | W17: 226 | X17: =+V17+W17 -> 352
A18: 9 | B18: TEGALASAH KAJA | C18: 140 | D18: 151 | E18: 291 | U18: 89 | V18: 140 | W18: 151 | X18: 291
A19: JUMLAH | C19: =SUM(C10:C18) -> 2567 | D19: =SUM(D10:D18) -> 2733 | E19: =SUM(E10:E18) -> 5300 | F19: =SUM(F10:F18) -> 0 | G19: =SUM(G10:G18) -> 0 | H19: =SUM(H10:H18) -> 0 | I19: =SUM(I10:I18) -> 0 | J19: =SUM(J10:J18) -> 0 | ... Q19: =SUM(Q10:Q18) -> 0 | U19: =SUM(U10:U18) -> 1546 | V19: =SUM(V10:V18) -> 2588 | W19: =SUM(W10:W18) -> 2764 | X19: =SUM(X10:X18) -> 5352
A22: CATATAN :
B23: PENDATANG | C23: WNI | K23: PINDAH | N23: WNI
C24: L | D24: P | N24: L | O24: P
B25: ANTAR BANJAR | C25: 0 | D25: 0 | K25: ANTAR BANJAR | N25: 0 | O25: 0
B26: ANTAR DESA | C26: 0 | D26: 0 | K26: ANTAR DESA | N26: 0 | O26: 0
B27: ANTAR KECAMATAN | C27: 0 | D27: 0 | K27: ANTAR KECAMATAN | N27: 0
B28: ANTAR KABUPATEN | C28: 0 | K28: ANTAR KABUPATEN | N28: 0 | O28: 0
B29: ANTAR PROPINSI | C29: 0 | D29: 0 | K29: ANTAR PROPINSI | N29: 0 | O29: 0
B30: DARI LUAR NEGERI | C30: 0 | D30: 0 | K30: DARI LUAR NEGERI | N30: 0 | O30: 0
B31: JUMLAH | C31: =SUM(C25:C30) -> 0 | D31: =SUM(D25:D30) -> 0 | K31: JUMLAH | N31: =SUM(N25:N30) -> 0 | O31: =SUM(O25:O30) -> 0

Sheet JUL 20
A2: PEMERINTAH KABUPATEN BANGLI
A3: KECAMATAN TEMBUKU, PERBEKEL DESA TEMBUKU
A5: LAPORAN PENDUDUK
A6: BULAN : JULI 2020
W7: WARGA NEGARA R.I
A8: NO | B8: BANJAR DINAS | C8: PENDUDUK AWAL BULAN INI | F8: LAHIR BULAN INI | I8: MENINGGAL BULAN INI | L8: PENDATANG BULAN INI | O8: PINDAH BULAN INI | R8: DP.4 (17 Th Ke Atas) | U8: JMLH KK | V8: PENDUDUK AKHIR BULAN INI
C9: L | D9: P | E9: L+P | F9: L | G9: P | H9: L+P | I9: L | J9: P | K9: L+P | L9: L | M9: P | N9: L+P | O9: L | P9: P | Q9: L+P | R9: L | S9: P | T9: L+P | V9: L | W9: P | X9: L+P
A10: 1 | B10: KEDUI | C10: 314 | D10: 326 | E10: =+C10+D10 -> 640 | J10: 1 | K10: =+I10+J10 -> 1 | N10: =+L10+M10 -> 0 | P10: 1 | Q10: =+O10+P10 -> 1 | U10: 189 | V10: =+C10+F10-I10+L10-O10 -> 314 | W10: =+D10+G10-J10+M10-P10 -> 324 | X10: =+V10+W10 -> 638
A11: 2 | B11: TEGALASAH | C11: =+'FEB 20'!V11 -> 247 | D11: 270 | E11: =+C11+D11 -> 517 | H11: =+F11+G11 -> 0 | N11: =+L11+M11 -> 0 | Q11: =+O11+P11 -> 0 | U11: 131 | V11: =+C11+F11-I11+L11-O11 -> 247 | W11: =+D11+G11-J11+M11-P11 -> 270 | X11: =+V11+W11 -> 517
A12: 3 | B12: PENIDA KAJA | C12: 495 | D12: =+'FEB 20'!W12 -> 518 | E12: =+C12+D12 -> 1013 | H12: =-H21 -> 0 | N12: =+L12+M12 -> 0 | Q12: =+O12+P12 -> 0 | U12: 274 | V12: =+C12+F12-I12+L12-O12 -> 495 | W12: =+D12+G12-J12+M12-P12 -> 518 | X12: =+V12+W12 -> 1013
A13: 4 | B13: PENIDA KELOD | C13: 587 | D13: 614 | E13: =+C13+D13 -> 1201 | F13: 1 | G13: 3 | H13: 4 | I13: 1 | J13: 1 | K13: =+I13+J13 -> 2 | O13: 1 | Q13: 1 | U13: 365 | V13: =+C13+F13-I13+L13-O13 -> 586 | W13: 616 | X13: =+V13+W13 -> 1202
A14: 5 | B14: TEMBUKU KAJA | C14: =+'FEB 20'!V14 -> 204 | D14: =+'FEB 20'!W14 -> 202 | E14: =+C14+D14 -> 406 | H14: =+F14+G14 -> 0 | K14: =+I14+J14 -> 0 | N14: =+L14+M14 -> 0 | Q14: =+O14+P14 -> 0 | U14: 113 | V14: =+C14+F14-I14+L14-O14 -> 204 | W14: =+D14+G14-J14+M14-P14 -> 202 | X14: =+V14+W14 -> 406
A15: 6 | B15: TEMBUKU KAWAN | C15: =+'FEB 20'!V15 -> 295 | D15: =+'FEB 20'!W15 -> 290 | E15: =+C15+D15 -> 585 | H15: =+F15+G15 -> 0 | K15: =+I15+J15 -> 0 | N15: =+L15+M15 -> 0 | Q15: =+O15+P15 -> 0 | U15: 166 | V15: =+C15+F15-I15+L15-O15 -> 295 | W15: =+D15+G15-J15+M15-P15 -> 290 | X15: =+V15+W15 -> 585
A16: 7 | B16: TEMBUKU BAKAS | C16: =+'FEB 20'!V16 -> 177 | D16: =+'FEB 20'!W16 -> 170 | E16: =+C16+D16 -> 347 | H16: =+F16+G16 -> 0 | K16: =+I16+J16 -> 0 | N16: =+L16+M16 -> 0 | Q16: =+O16+P16 -> 0 | U16: 124 | V16: =+C16+F16-I16+L16-O16 -> 177 | W16: =+D16+G16-J16+M16-P16 -> 170 | X16: =+V16+W16 -> 347
A17: 8 | B17: TEMBUKU SESETAN | C17: 126 | D17: 226 | E17: =+C17+D17 -> 352 | H17: =+F17+G17 -> 0 | K17: =+I17+J17 -> 0 | N17: =+L17+M17 -> 0 | Q17: =+O17+P17 -> 0 | U17: 103 | V17: 126 | W17: 226 | X17: =+V17+W17 -> 352
A18: 9 | B18: TEGALASAH KAJA | C18: 140 | D18: 151 | E18: 291 | U18: 89 | V18: 140 | W18: 151 | X18: 291
A19: JUMLAH | C19: =SUM(C10:C18) -> 2585 | D19: =SUM(D10:D18) -> 2767 | E19: =SUM(E10:E18) -> 5352 | F19: =SUM(F10:F18) -> 1 | G19: =SUM(G10:G18) -> 3 | H19: =SUM(H10:H18) -> 4 | I19: =SUM(I10:I18) -> 1 | J19: =SUM(J10:J18) -> 2 | ... Q19: =SUM(Q10:Q18) -> 2 | U19: =SUM(U10:U18) -> 1554 | V19: =SUM(V10:V18) -> 2584 | W19: =SUM(W10:W18) -> 2767 | X19: =SUM(X10:X18) -> 5351
A22: CATATAN :
B23: PENDATANG | C23: WNI | K23: PINDAH | N23: WNI
C24: L | D24: P | N24: L | O24: P
B25: ANTAR BANJAR | C25: 0 | D25: 0 | K25: ANTAR BANJAR | N25: 0 | O25: 0
B26: ANTAR DESA | C26: 0 | D26: 0 | K26: ANTAR DESA | N26: 0 | O26: 0
B27: ANTAR KECAMATAN | C27: 0 | D27: 0 | K27: ANTAR KECAMATAN | N27: 1 | O27: 1
B28: ANTAR KABUPATEN | C28: 0 | K28: ANTAR KABUPATEN | N28: 0 | O28: 0
B29: ANTAR PROPINSI | C29: 0 | D29: 0 | K29: ANTAR PROPINSI | N29: 0 | O29: 0
B30: DARI LUAR NEGERI | C30: 0 | D30: 0 | K30: DARI LUAR NEGERI | N30: 0 | O30: 0
B31: JUMLAH | C31: =SUM(C25:C30) -> 0 | D31: =SUM(D25:D30) -> 0 | K31: JUMLAH | N31: =SUM(N25:N30) -> 1 | O31: =SUM(O25:O30) -> 1

Sheet AGS 20
A2: PEMERINTAH KABUPATEN BANGLI
A3: KECAMATAN TEMBUKU, PERBEKEL DESA TEMBUKU
A5: LAPORAN PENDUDUK
A6: BULAN : AGUSTUS 2020
W7: WARGA NEGARA R.I
A8: NO | B8: BANJAR DINAS | C8: PENDUDUK AWAL BULAN INI | F8: LAHIR BULAN INI | I8: MENINGGAL BULAN INI | L8: PENDATANG BULAN INI | O8: PINDAH BULAN INI | R8: DP.4 (17 Th Ke Atas) | U8: JMLH KK | V8: PENDUDUK AKHIR BULAN INI
C9: L | D9: P | E9: L+P | F9: L | G9: P | H9: L+P | I9: L | J9: P | K9: L+P | L9: L | M9: P | N9: L+P | O9: L | P9: P | Q9: L+P | R9: L | S9: P | T9: L+P | V9: L | W9: P | X9: L+P
A10: 1 | B10: KEDUI | C10: 314 | D10: 324 | E10: 638 | N10: =+L10+M10 -> 0 | U10: 189 | V10: =+C10+F10-I10+L10-O10 -> 314 | W10: =+D10+G10-J10+M10-P10 -> 324 | X10: =+V10+W10 -> 638
A11: 2 | B11: TEGALASAH | C11: =+'FEB 20'!V11 -> 247 | D11: 270 | E11: =+C11+D11 -> 517 | H11: =+F11+G11 -> 0 | N11: =+L11+M11 -> 0 | Q11: =+O11+P11 -> 0 | U11: 138 | V11: 215 | W11: 239 | X11: =+V11+W11 -> 454
A12: 3 | B12: PENIDA KAJA | C12: 495 | D12: =+'FEB 20'!W12 -> 518 | E12: =+C12+D12 -> 1013 | H12: =-H21 -> 0 | N12: =+L12+M12 -> 0 | Q12: =+O12+P12 -> 0 | U12: 274 | V12: =+C12+F12-I12+L12-O12 -> 495 | W12: =+D12+G12-J12+M12-P12 -> 518 | X12: =+V12+W12 -> 1013
A13: 4 | B13: PENIDA KELOD | C13: 586 | D13: 616 | E13: =+C13+D13 -> 1202 | I13: 2 | K13: =+I13+J13 -> 2 | M13: 1 | N13: 1 | O13: 3 | P13: 3 | Q13: 6 | U13: 365 | V13: =+C13+F13-I13+L13-O13 -> 581 | W13: 614 | X13: =+V13+W13 -> 1195
A14: 5 | B14: TEMBUKU KAJA | C14: =+'FEB 20'!V14 -> 204 | D14: =+'FEB 20'!W14 -> 202 | E14: =+C14+D14 -> 406 | H14: =+F14+G14 -> 0 | K14: =+I14+J14 -> 0 | N14: =+L14+M14 -> 0 | Q14: =+O14+P14 -> 0 | U14: 113 | V14: =+C14+F14-I14+L14-O14 -> 204 | W14: =+D14+G14-J14+M14-P14 -> 202 | X14: =+V14+W14 -> 406
A15: 6 | B15: TEMBUKU KAWAN | C15: =+'FEB 20'!V15 -> 295 | D15: =+'FEB 20'!W15 -> 290 | E15: =+C15+D15 -> 585 | H15: =+F15+G15 -> 0 | K15: =+I15+J15 -> 0 | N15: =+L15+M15 -> 0 | Q15: =+O15+P15 -> 0 | U15: 166 | V15: =+C15+F15-I15+L15-O15 -> 295 | W15: =+D15+G15-J15+M15-P15 -> 290 | X15: =+V15+W15 -> 585
A16: 7 | B16: TEMBUKU BAKAS | C16: =+'FEB 20'!V16 -> 177 | D16: =+'FEB 20'!W16 -> 170 | E16: =+C16+D16 -> 347 | H16: =+F16+G16 -> 0 | K16: =+I16+J16 -> 0 | N16: =+L16+M16 -> 0 | Q16: =+O16+P16 -> 0 | U16: 124 | V16: =+C16+F16-I16+L16-O16 -> 177 | W16: =+D16+G16-J16+M16-P16 -> 170 | X16: =+V16+W16 -> 347
A17: 8 | B17: TEMBUKU SESETAN | C17: 126 | D17: 226 | E17: =+C17+D17 -> 352 | H17: =+F17+G17 -> 0 | K17: =+I17+J17 -> 0 | N17: =+L17+M17 -> 0 | Q17: =+O17+P17 -> 0 | U17: 103 | V17: 126 | W17: 226 | X17: =+V17+W17 -> 352
A18: 9 | B18: TEGALASAH KAJA | C18: 140 | D18: 151 | E18: 291 | I18: 1 | K18: 1 | U18: 89 | V18: 140 | W18: 151 | X18: 291
A19: JUMLAH | C19: =SUM(C10:C18) -> 2584 | D19: =SUM(D10:D18) -> 2767 | E19: =SUM(E10:E18) -> 5351 | F19: =SUM(F10:F18) -> 0 | G19: =SUM(G10:G18) -> 0 | H19: =SUM(H10:H18) -> 0 | I19: =SUM(I10:I18) -> 3 | J19: =SUM(J10:J18) -> 0 | ... Q19: =SUM(Q10:Q18) -> 6 | U19: =SUM(U10:U18) -> 1561 | V19: =SUM(V10:V18) -> 2547 | W19: =SUM(W10:W18) -> 2734 | X19: =SUM(X10:X18) -> 5281
A22: CATATAN :
B23: PENDATANG | C23: WNI | K23: PINDAH | N23: WNI
C24: L | D24: P | N24: L | O24: P
B25: ANTAR BANJAR | C25: 0 | D25: 0 | K25: ANTAR BANJAR | N25: 0 | O25: 0
B26: ANTAR DESA | C26: 0 | D26: 0 | K26: ANTAR DESA | N26: 0 | O26: 0
B27: ANTAR KECAMATAN | C27: 0 | D27: 0 | K27: ANTAR KECAMATAN
B28: ANTAR KABUPATEN | C28: 0 | K28: ANTAR KABUPATEN | N28: 3 | O28: 3
B29: ANTAR PROPINSI | C29: 0 | D29: 0 | K29: ANTAR PROPINSI | N29: 0 | O29: 0
B30: DARI LUAR NEGERI | C30: 0 | D30: 0 | K30: DARI LUAR NEGERI | N30: 0 | O30: 0
B31: JUMLAH | C31: =SUM(C25:C30) -> 0 | D31: =SUM(D25:D30) -> 0 | K31: JUMLAH | N31: =SUM(N25:N30) -> 3 | O31: =SUM(O25:O30) -> 3

Sheet SEP 20
A2: PEMERINTAH KABUPATEN BANGLI
A3: KECAMATAN TEMBUKU, PERBEKEL DESA TEMBUKU
A5: LAPORAN PENDUDUK
A6: BULAN : SEPTEMBER 2020
W7: WARGA NEGARA R.I
A8: NO | B8: BANJAR DINAS | C8: PENDUDUK AWAL BULAN INI | F8: LAHIR BULAN INI | I8: MENINGGAL BULAN INI | L8: PENDATANG BULAN INI | O8: PINDAH BULAN INI | R8: DP.4 (17 Th Ke Atas) | U8: JMLH KK | V8: PENDUDUK AKHIR BULAN INI
C9: L | D9: P | E9: L+P | F9: L | G9: P | H9: L+P | I9: L | J9: P | K9: L+P | L9: L | M9: P | N9: L+P | O9: L | P9: P | Q9: L+P | R9: L | S9: P | T9: L+P | V9: L | W9: P | X9: L+P
A10: 1 | B10: KEDUI | C10: 314 | D10: 324 | E10: 638 | N10: =+L10+M10 -> 0 | U10: 189 | V10: =+C10+F10-I10+L10-O10 -> 314 | W10: =+D10+G10-J10+M10-P10 -> 324 | X10: =+V10+W10 -> 638
A11: 2 | B11: TEGALASAH | C11: 215 | D11: 239 | E11: =+C11+D11 -> 454 | H11: =+F11+G11 -> 0 | N11: =+L11+M11 -> 0 | Q11: =+O11+P11 -> 0 | U11: 138 | V11: 215 | W11: 239 | X11: =+V11+W11 -> 454
A12: 3 | B12: PENIDA KAJA | C12: 495 | D12: =+'FEB 20'!W12 -> 518 | E12: =+C12+D12 -> 1013 | H12: =-H21 -> 0 | N12: =+L12+M12 -> 0 | Q12: =+O12+P12 -> 0 | U12: 274 | V12: =+C12+F12-I12+L12-O12 -> 495 | W12: =+D12+G12-J12+M12-P12 -> 518 | X12: =+V12+W12 -> 1013
A13: 4 | B13: PENIDA KELOD | C13: 581 | D13: 614 | E13: =+C13+D13 -> 1195 | U13: 365 | V13: =+C13+F13-I13+L13-O13 -> 581 | W13: 614 | X13: =+V13+W13 -> 1195
A14: 5 | B14: TEMBUKU KAJA | C14: =+'FEB 20'!V14 -> 204 | D14: =+'FEB 20'!W14 -> 202 | E14: =+C14+D14 -> 406 | H14: =+F14+G14 -> 0 | K14: =+I14+J14 -> 0 | N14: =+L14+M14 -> 0 | Q14: =+O14+P14 -> 0 | U14: 113 | V14: =+C14+F14-I14+L14-O14 -> 204 | W14: =+D14+G14-J14+M14-P14 -> 202 | X14: =+V14+W14 -> 406
A15: 6 | B15: TEMBUKU KAWAN | C15: =+'FEB 20'!V15 -> 295 | D15: =+'FEB 20'!W15 -> 290 | E15: =+C15+D15 -> 585 | H15: =+F15+G15 -> 0 | K15: =+I15+J15 -> 0 | N15: =+L15+M15 -> 0 | Q15: =+O15+P15 -> 0 | U15: 166 | V15: =+C15+F15-I15+L15-O15 -> 295 | W15: =+D15+G15-J15+M15-P15 -> 290 | X15: =+V15+W15 -> 585
A16: 7 | B16: TEMBUKU BAKAS | C16: =+'FEB 20'!V16 -> 177 | D16: =+'FEB 20'!W16 -> 170 | E16: =+C16+D16 -> 347 | H16: =+F16+G16 -> 0 | K16: =+I16+J16 -> 0 | N16: =+L16+M16 -> 0 | Q16: =+O16+P16 -> 0 | U16: 124 | V16: =+C16+F16-I16+L16-O16 -> 177 | W16: =+D16+G16-J16+M16-P16 -> 170 | X16: =+V16+W16 -> 347
A17: 8 | B17: TEMBUKU SESETAN | C17: 126 | D17: 226 | E17: =+C17+D17 -> 352 | H17: =+F17+G17 -> 0 | K17: =+I17+J17 -> 0 | N17: =+L17+M17 -> 0 | Q17: =+O17+P17 -> 0 | U17: 103 | V17: 126 | W17: 226 | X17: =+V17+W17 -> 352
A18: 9 | B18: TEGALASAH KAJA | C18: 140 | D18: 151 | E18: 291 | U18: 89 | V18: 140 | W18: 151 | X18: 291
A19: JUMLAH | C19: =SUM(C10:C18) -> 2547 | D19: =SUM(D10:D18) -> 2734 | E19: =SUM(E10:E18) -> 5281 | F19: =SUM(F10:F18) -> 0 | G19: =SUM(G10:G18) -> 0 | H19: =SUM(H10:H18) -> 0 | I19: =SUM(I10:I18) -> 0 | J19: =SUM(J10:J18) -> 0 | ... P19: =SUM(P10:P18) -> 0 | U19: =SUM(U10:U18) -> 1561 | V19: =SUM(V10:V18) -> 2547 | W19: =SUM(W10:W18) -> 2734 | X19: =SUM(X10:X18) -> 5281
A22: CATATAN :
B23: PENDATANG | C23: WNI | K23: PINDAH | N23: WNI
C24: L | D24: P | N24: L | O24: P
B25: ANTAR BANJAR | C25: 0 | D25: 0 | K25: ANTAR BANJAR | N25: 0 | O25: 0
B26: ANTAR DESA | C26: 0 | D26: 0 | K26: ANTAR DESA | N26: 0 | O26: 0
B27: ANTAR KECAMATAN | C27: 0 | D27: 0 | K27: ANTAR KECAMATAN
B28: ANTAR KABUPATEN | C28: 0 | K28: ANTAR KABUPATEN | N28: 3 | O28: 3
B29: ANTAR PROPINSI | C29: 0 | D29: 0 | K29: ANTAR PROPINSI | N29: 0 | O29: 0
B30: DARI LUAR NEGERI | C30: 0 | D30: 0 | K30: DARI LUAR NEGERI | N30: 0 | O30: 0
B31: JUMLAH | C31: =SUM(C25:C30) -> 0 | D31: =SUM(D25:D30) -> 0 | K31: JUMLAH | N31: =SUM(N25:N30) -> 3 | O31: =SUM(O25:O30) -> 3

Sheet OKT 20
A2: PEMERINTAH KABUPATEN BANGLI
A3: KECAMATAN TEMBUKU, PERBEKEL DESA TEMBUKU
A5: LAPORAN PENDUDUK
A6: BULAN : OKTOBER 2020
W7: WARGA NEGARA R.I
A8: NO | B8: BANJAR DINAS | C8: PENDUDUK AWAL BULAN INI | F8: LAHIR BULAN INI | I8: MENINGGAL BULAN INI | L8: PENDATANG BULAN INI | O8: PINDAH BULAN INI | R8: DP.4 (17 Th Ke Atas) | U8: JMLH KK | V8: PENDUDUK AKHIR BULAN INI
C9: L | D9: P | E9: L+P | F9: L | G9: P | H9: L+P | I9: L | J9: P | K9: L+P | L9: L | M9: P | N9: L+P | O9: L | P9: P | Q9: L+P | R9: L | S9: P | T9: L+P | V9: L | W9: P | X9: L+P
A10: 1 | B10: KEDUI | C10: 314 | D10: 324 | E10: 638 | N10: =+L10+M10 -> 0 | U10: 189 | V10: =+C10+F10-I10+L10-O10 -> 314 | W10: =+D10+G10-J10+M10-P10 -> 324 | X10: =+V10+W10 -> 638
A11: 2 | B11: TEGALASAH | C11: 215 | D11: 239 | E11: =+C11+D11 -> 454 | U11: 138 | V11: 215 | W11: 239 | X11: =+V11+W11 -> 454
A12: 3 | B12: PENIDA KAJA | C12: 495 | D12: =+'FEB 20'!W12 -> 518 | E12: =+C12+D12 -> 1013 | H12: =-H21 -> 0 | N12: =+L12+M12 -> 0 | Q12: =+O12+P12 -> 0 | U12: 274 | V12: =+C12+F12-I12+L12-O12 -> 495 | W12: =+D12+G12-J12+M12-P12 -> 518 | X12: =+V12+W12 -> 1013
A13: 4 | B13: PENIDA KELOD | C13: 581 | D13: 614 | E13: =+C13+D13 -> 1195 | U13: 365 | V13: 581 | W13: 614 | X13: =+V13+W13 -> 1195
A14: 5 | B14: TEMBUKU KAJA | C14: =+'FEB 20'!V14 -> 204 | D14: =+'FEB 20'!W14 -> 202 | E14: =+C14+D14 -> 406 | H14: =+F14+G14 -> 0 | K14: =+I14+J14 -> 0 | N14: =+L14+M14 -> 0 | Q14: =+O14+P14 -> 0 | U14: 113 | V14: =+C14+F14-I14+L14-O14 -> 204 | W14: =+D14+G14-J14+M14-P14 -> 202 | X14: =+V14+W14 -> 406
A15: 6 | B15: TEMBUKU KAWAN | C15: =+'FEB 20'!V15 -> 295 | D15: =+'FEB 20'!W15 -> 290 | E15: =+C15+D15 -> 585 | H15: =+F15+G15 -> 0 | K15: =+I15+J15 -> 0 | N15: =+L15+M15 -> 0 | Q15: =+O15+P15 -> 0 | U15: 166 | V15: =+C15+F15-I15+L15-O15 -> 295 | W15: =+D15+G15-J15+M15-P15 -> 290 | X15: =+V15+W15 -> 585
A16: 7 | B16: TEMBUKU BAKAS | C16: =+'FEB 20'!V16 -> 177 | D16: =+'FEB 20'!W16 -> 170 | E16: =+C16+D16 -> 347 | H16: =+F16+G16 -> 0 | K16: =+I16+J16 -> 0 | N16: =+L16+M16 -> 0 | Q16: =+O16+P16 -> 0 | U16: 124 | V16: =+C16+F16-I16+L16-O16 -> 177 | W16: =+D16+G16-J16+M16-P16 -> 170 | X16: =+V16+W16 -> 347
A17: 8 | B17: TEMBUKU SESETAN | C17: 126 | D17: 226 | E17: =+C17+D17 -> 352 | H17: =+F17+G17 -> 0 | K17: =+I17+J17 -> 0 | N17: =+L17+M17 -> 0 | Q17: =+O17+P17 -> 0 | U17: 103 | V17: 126 | W17: 226 | X17: =+V17+W17 -> 352
A18: 9 | B18: TEGALASAH KAJA | C18: 140 | D18: 151 | E18: 291 | U18: 89 | V18: 140 | W18: 151 | X18: 291
A19: JUMLAH | C19: =SUM(C10:C18) -> 2547 | D19: =SUM(D10:D18) -> 2734 | E19: =SUM(E10:E18) -> 5281 | F19: =SUM(F10:F18) -> 0 | G19: =SUM(G10:G18) -> 0 | H19: =SUM(H10:H18) -> 0 | I19: =SUM(I10:I18) -> 0 | J19: =SUM(J10:J18) -> 0 | L19: =SUM(L10:L18) -> 0 | M19: =SUM(M10:M18) -> 0 | N19: =SUM(N10:N18) -> 0 | O19: =SUM(O10:O18) -> 0 | P19: =SUM(P10:P18) -> 0 | Q19: =SUM(Q10:Q18) -> 0 | U19: =SUM(U10:U18) -> 1561 | V19: =SUM(V10:V18) -> 2547 | W19: =SUM(W10:W18) -> 2734 | X19: =SUM(X10:X18) -> 5281
A22: CATATAN :
B23: PENDATANG | C23: WNI | K23: PINDAH | N23: WNI
C24: L | D24: P | N24: L | O24: P
B25: ANTAR BANJAR | C25: 0 | D25: 0 | K25: ANTAR BANJAR | N25: 0 | O25: 0
B26: ANTAR DESA | C26: 0 | D26: 0 | K26: ANTAR DESA | N26: 0 | O26: 0
B27: ANTAR KECAMATAN | C27: 0 | D27: 0 | K27: ANTAR KECAMATAN
B28: ANTAR KABUPATEN | C28: 0 | K28: ANTAR KABUPATEN | N28: =-J39 -> 0
B29: ANTAR PROPINSI | C29: 0 | D29: 0 | K29: ANTAR PROPINSI | N29: 0 | O29: 0
B30: DARI LUAR NEGERI | C30: 0 | D30: 0 | K30: DARI LUAR NEGERI | N30: 0 | O30: 0
B31: JUMLAH | C31: =SUM(C25:C30) -> 0 | D31: =SUM(D25:D30) -> 0 | K31: JUMLAH | N31: =SUM(N25:N30) -> 0 | O31: =SUM(O25:O30) -> 0

Sheet NOPEMBER 20
B2: PEMERINTAH KABUPATEN BANGLI
B3: KECAMATAN TEMBUKU, PERBEKEL DESA TEMBUKU
B5: LAPORAN PENDUDUK
B6: BULAN : NOPEMBER 2020
X7: WARGA NEGARA R.I
B8: NO | C8: BANJAR DINAS | D8: PENDUDUK AWAL BULAN INI | G8: LAHIR BULAN INI | J8: MENINGGAL BULAN INI | M8: PENDATANG BULAN INI | P8: PINDAH BULAN INI | S8: DP.4 (17 Th Ke Atas) | V8: JMLH KK | W8: PENDUDUK AKHIR BULAN INI
D9: L | E9: P | F9: L+P | G9: L | H9: P | I9: L+P | J9: L | K9: P | L9: L+P | M9: L | N9: P | O9: L+P | P9: L | Q9: P | R9: L+P | S9: L | T9: P | U9: L+P | W9: L | X9: P | Y9: L+P
B10: 1 | C10: KEDUI | D10: 314 | E10: 324 | F10: 638 | J10: 1 | L10: 1 | N10: 1 | O10: =+M10+N10 -> 1 | V10: 191 | W10: 314 | X10: 323 | Y10: =+W10+X10 -> 637
B11: 2 | C11: TEGALASAH | D11: 215 | E11: 239 | F11: =+D11+E11 -> 454 | V11: 138 | W11: 215 | X11: 239 | Y11: =+W11+X11 -> 454
B12: 3 | C12: PENIDA KAJA | D12: 495 | E12: 518 | F12: =+D12+E12 -> 1013 | I12: =-I21 -> 0 | O12: =+M12+N12 -> 0 | R12: =+P12+Q12 -> 0 | V12: 274 | W12: =+D12+G12-J12+M12-P12 -> 495 | X12: =+E12+H12-K12+N12-Q12 -> 518 | Y12: =+W12+X12 -> 1013
B13: 4 | C13: PENIDA KELOD | D13: 581 | E13: 614 | F13: =+D13+E13 -> 1195 | V13: 365 | W13: 581 | X13: 614 | Y13: =+W13+X13 -> 1195
B14: 5 | C14: TEMBUKU KAJA | D14: 204 | E14: 202 | F14: =+D14+E14 -> 406 | I14: =+G14+H14 -> 0 | L14: =+J14+K14 -> 0 | O14: =+M14+N14 -> 0 | R14: =+P14+Q14 -> 0 | V14: 113 | W14: =+D14+G14-J14+M14-P14 -> 204 | X14: =+E14+H14-K14+N14-Q14 -> 202 | Y14: =+W14+X14 -> 406
B15: 6 | C15: TEMBUKU KAWAN | D15: 295 | E15: 290 | F15: =+D15+E15 -> 585 | I15: =+G15+H15 -> 0 | L15: =+J15+K15 -> 0 | O15: =+M15+N15 -> 0 | R15: =+P15+Q15 -> 0 | V15: 166 | W15: =+D15+G15-J15+M15-P15 -> 295 | X15: =+E15+H15-K15+N15-Q15 -> 290 | Y15: =+W15+X15 -> 585
B16: 7 | C16: TEMBUKU BAKAS | D16: 177 | E16: 170 | F16: =+D16+E16 -> 347 | I16: =+G16+H16 -> 0 | L16: =+J16+K16 -> 0 | O16: =+M16+N16 -> 0 | R16: =+P16+Q16 -> 0 | V16: 124 | W16: =+D16+G16-J16+M16-P16 -> 177 | X16: =+E16+H16-K16+N16-Q16 -> 170 | Y16: =+W16+X16 -> 347
B17: 8 | C17: TEMBUKU SESETAN | D17: 126 | E17: 226 | F17: =+D17+E17 -> 352 | I17: =+G17+H17 -> 0 | L17: =+J17+K17 -> 0 | O17: =+M17+N17 -> 0 | R17: =+P17+Q17 -> 0 | V17: 103 | W17: 126 | X17: 226 | Y17: =+W17+X17 -> 352
B18: 9 | C18: TEGALASAH KAJA | D18: 140 | E18: 151 | F18: 291 | V18: 89 | W18: 140 | X18: 151 | Y18: 291
B19: JUMLAH | D19: =SUM(D10:D18) -> 2547 | E19: =SUM(E10:E18) -> 2734 | F19: =SUM(F10:F18) -> 5281 | G19: =SUM(G10:G18) -> 0 | H19: =SUM(H10:H18) -> 0 | I19: =SUM(I10:I18) -> 0 | J19: =SUM(J10:J18) -> 1 | K19: =SUM(K10:K18) -> 0 | M19: =SUM(M10:M18) -> 0 | N19: =SUM(N10:N18) -> 1 | O19: =SUM(O10:O18) -> 1 | P19: =SUM(P10:P18) -> 0 | Q19: =SUM(Q10:Q18) -> 0 | R19: =SUM(R10:R18) -> 0 | V19: =SUM(V10:V18) -> 1563 | W19: =SUM(W10:W18) -> 2547 | X19: =SUM(X10:X18) -> 2733 | Y19: =SUM(Y10:Y18) -> 5280
B22: CATATAN :
C23: PENDATANG | D23: WNI | L23: PINDAH | O23: WNI
D24: L | E24: P | O24: L | P24: P
C25: ANTAR BANJAR | D25: 0 | E25: 0 | L25: ANTAR BANJAR | O25: 0 | P25: 0
C26: ANTAR DESA | D26: 0 | E26: 0 | L26: ANTAR DESA | O26: 0 | P26: 0
C27: ANTAR KECAMATAN | D27: 0 | E27: 0 | L27: ANTAR KECAMATAN
C28: ANTAR KABUPATEN | D28: 0 | L28: ANTAR KABUPATEN | O28: =-K39 -> 0
C29: ANTAR PROPINSI | D29: 0 | E29: 0 | L29: ANTAR PROPINSI | O29: 0 | P29: 0
C30: DARI LUAR NEGERI | D30: 0 | E30: 0 | L30: DARI LUAR NEGERI | O30: 0 | P30: 0
C31: JUMLAH | D31: =SUM(D25:D30) -> 0 | E31: =SUM(E25:E30) -> 0 | L31: JUMLAH | O31: =SUM(O25:O30) -> 0 | P31: =SUM(P25:P30) -> 0

Sheet DESEM 20
A2: PEMERINTAH KABUPATEN BANGLI
A3: KECAMATAN TEMBUKU, PERBEKEL DESA TEMBUKU
A5: LAPORAN PENDUDUK
A6: BULAN : DESEMBER 2020
W7: WARGA NEGARA R.I
A8: NO | B8: BANJAR DINAS | C8: PENDUDUK AWAL BULAN INI | F8: LAHIR BULAN INI | I8: MENINGGAL BULAN INI | L8: PENDATANG BULAN INI | O8: PINDAH BULAN INI | R8: DP.4 (17 Th Ke Atas) | U8: JMLH KK | V8: PENDUDUK AKHIR BULAN INI
C9: L | D9: P | E9: L+P | F9: L | G9: P | H9: L+P | I9: L | J9: P | K9: L+P | L9: L | M9: P | N9: L+P | O9: L | P9: P | Q9: L+P | R9: L | S9: P | T9: L+P | V9: L | W9: P | X9: L+P
A10: 1 | B10: KEDUI | C10: 314 | D10: 323 | E10: 637 | I10: 2 | K10: 2 | N10: =+L10+M10 -> 0 | U10: 191 | V10: =C10+F10-I10+L10-O10 -> 312 | W10: =D10+G10-J10+M10-P10 -> 323 | X10: =+V10+W10 -> 635
A11: 2 | B11: TEGALASAH | C11: 215 | D11: 239 | E11: =+C11+D11 -> 454 | F11: 1 | G11: 2 | H11: 3 | I11: 2 | J11: 1 | K11: 3 | L11: 1 | M11: 1 | N11: 2 | U11: 140 | V11: =C11+F11-I11+L11-O11 -> 215 | W11: =D11+G11-J11+M11-P11 -> 241 | X11: =+V11+W11 -> 456
A12: 3 | B12: PENIDA KAJA | C12: 495 | D12: =+'FEB 20'!W12 -> 518 | E12: =+C12+D12 -> 1013 | H12: =-H21 -> 0 | N12: =+L12+M12 -> 0 | Q12: =+O12+P12 -> 0 | U12: 274 | V12: =C12+F12-I12+L12-O12 -> 495 | W12: =D12+G12-J12+M12-P12 -> 518 | X12: =+V12+W12 -> 1013
A13: 4 | B13: PENIDA KELOD | C13: 586 | D13: 616 | E13: =+C13+D13 -> 1202 | F13: 2 | G13: 1 | H13: 3 | I13: 2 | J13: 3 | K13: 5 | M13: 1 | N13: 1 | P13: 1 | Q13: 1 | U13: 365 | V13: =C13+F13-I13+L13-O13 -> 586 | W13: =D13+G13-J13+M13-P13 -> 614 | X13: =+V13+W13 -> 1200
A14: 5 | B14: TEMBUKU KAJA | C14: 207 | D14: 215 | E14: =+C14+D14 -> 422 | H14: =+F14+G14 -> 0 | K14: =+I14+J14 -> 0 | N14: =+L14+M14 -> 0 | Q14: =+O14+P14 -> 0 | U14: 130 | V14: =C14+F14-I14+L14-O14 -> 207 | W14: =D14+G14-J14+M14-P14 -> 215 | X14: =+V14+W14 -> 422
A15: 6 | B15: TEMBUKU KAWAN | C15: =+'FEB 20'!V15 -> 295 | D15: =+'FEB 20'!W15 -> 290 | E15: =+C15+D15 -> 585 | H15: =+F15+G15 -> 0 | K15: =+I15+J15 -> 0 | N15: =+L15+M15 -> 0 | Q15: =+O15+P15 -> 0 | U15: 166 | V15: =C15+F15-I15+L15-O15 -> 295 | W15: =D15+G15-J15+M15-P15 -> 290 | X15: =+V15+W15 -> 585
A16: 7 | B16: TEMBUKU BAKAS | C16: 199 | D16: 200 | E16: =+C16+D16 -> 399 | H16: =+F16+G16 -> 0 | K16: =+I16+J16 -> 0 | N16: =+L16+M16 -> 0 | Q16: =+O16+P16 -> 0 | U16: 134 | V16: =C16+F16-I16+L16-O16 -> 199 | W16: =D16+G16-J16+M16-P16 -> 200 | X16: =+V16+W16 -> 399
A17: 8 | B17: TEMBUKU SESETAN | C17: 126 | D17: 226 | E17: =+C17+D17 -> 352 | H17: =+F17+G17 -> 0 | K17: =+I17+J17 -> 0 | N17: =+L17+M17 -> 0 | Q17: =+O17+P17 -> 0 | U17: 103 | V17: =C17+F17-I17+L17-O17 -> 126 | W17: =D17+G17-J17+M17-P17 -> 226 | X17: =+V17+W17 -> 352
A18: 9 | B18: TEGALASAH KAJA | C18: 140 | D18: 151 | E18: 291 | U18: 89 | V18: =C18+F18-I18+L18-O18 -> 140 | W18: =D18+G18-J18+M18-P18 -> 151 | X18: 291
A19: JUMLAH | C19: =SUM(C10:C18) -> 2577 | D19: =SUM(D10:D18) -> 2778 | E19: =SUM(E10:E18) -> 5355 | F19: =SUM(F10:F18) -> 3 | G19: =SUM(G10:G18) -> 3 | H19: =SUM(H10:H18) -> 6 | I19: =SUM(I10:I18) -> 6 | J19: =SUM(J10:J18) -> 4 | ... Q19: =SUM(Q10:Q18) -> 1 | U19: =SUM(U10:U18) -> 1592 | V19: =SUM(V10:V18) -> 2575 | W19: =SUM(W10:W18) -> 2778 | X19: =SUM(X10:X18) -> 5353
A22: CATATAN :
B23: PENDATANG | C23: WNI | K23: PINDAH | N23: WNI
C24: L | D24: P | N24: L | O24: P
B25: ANTAR BANJAR | C25: 0 | D25: 0 | K25: ANTAR BANJAR | N25: 0 | O25: 0
B26: ANTAR DESA | C26: 0 | D26: 0 | K26: ANTAR DESA | N26: 0 | O26: 0
B27: ANTAR KECAMATAN | C27: 0 | D27: 1 | K27: ANTAR KECAMATAN | O27: 1
B28: ANTAR KABUPATEN | C28: 1 | D28: 1 | K28: ANTAR KABUPATEN | N28: =-J39 -> 0
B29: ANTAR PROPINSI | C29: 0 | D29: 0 | K29: ANTAR PROPINSI | N29: 0 | O29: 0
B30: DARI LUAR NEGERI | C30: 0 | D30: 0 | K30: DARI LUAR NEGERI | N30: 0 | O30: 0
B31: JUMLAH | C31: =SUM(C25:C30) -> 1 | D31: =SUM(D25:D30) -> 2 | K31: JUMLAH | N31: =SUM(N25:N30) -> 0 | O31: =SUM(O25:O30) -> 1

Sheet total
A2: PEMERINTAH KABUPATEN BANGLI
A3: KECAMATAN TEMBUKU, PERBEKEL DESA TEMBUKU
A5: LAPORAN PENDUDUK
A6: BULAN : DESEMBER 2016
W7: WARGA NEGARA R.I
A8: NO | B8: BANJAR DINAS | C8: PENDUDUK AWAL BULAN INI | F8: LAHIR BULAN INI | I8: MENINGGAL BULAN INI | L8: PENDATANG BULAN INI | O8: PINDAH BULAN INI | R8: DP.4 (17 Th Ke Atas) | U8: JMLH KK | V8: PENDUDUK AKHIR BULAN INI
C9: L | D9: P | E9: L+P | F9: L | G9: P | H9: L+P | I9: L | J9: P | K9: L+P | L9: L | M9: P | N9: L+P | O9: L | P9: P | Q9: L+P | R9: L | S9: P | T9: L+P | V9: L | W9: P | X9: L+P
A10: 1 | B10: KEDUI | C10: =+'NOPEMBER 20'!#REF! -> #REF! | D10: =+'NOPEMBER 20'!#REF! -> #REF! | E10: =+C10+D10 -> #REF! | F10: =+'JAN 20'!F10+'FEB 20'!F10+'APR 20'!F10+'MEI 20'!F10+'JUN 20'!F10+'JUL 20'!F10+'AGS 20'!F10+'SEP 20'!F10+'OKT 20'!F10+'DESEM 20'!F10+'NOPEMBER 20'!#REF!+#REF! -> #REF! | G10: =+'JAN 20'!G10+'FEB 20'!G10+'APR 20'!G10+'MEI 20'!G10+'JUN 20'!G10+'JUL 20'!G10+'AGS 20'!G10+'SEP 20'!G10+'OKT 20'!G10+'DESEM 20'!G10+'NOPEMBER 20'!#REF!+#REF! -> #REF! | H10: =+F10+G10 -> #REF! | K10: =+I10+J10 -> 0 | N10: =+L10+M10 -> 0 | Q10: =+O10+P10 -> 0 | R10: 212 | S10: 216 | T10: =+R10+S10 -> 428 | U10: 184 | V10: =+C10+F10-I10+L10-O10 -> #REF! | W10: =+D10+G10-J10+M10-P10 -> #REF! | X10: =+V10+W10 -> #REF!
A11: 2 | B11: TEGALASAH | C11: =+'NOPEMBER 20'!#REF! -> #REF! | D11: =+'NOPEMBER 20'!#REF! -> #REF! | E11: =+C11+D11 -> #REF! | F11: =+'JAN 20'!F11+'FEB 20'!F11+'APR 20'!F11+'MEI 20'!F11+'JUN 20'!F11+'JUL 20'!F11+'AGS 20'!F11+'SEP 20'!F11+'OKT 20'!F11+'DESEM 20'!F11+'NOPEMBER 20'!#REF!+#REF! -> #REF! | G11: =+'JAN 20'!G11+'FEB 20'!G11+'APR 20'!G11+'MEI 20'!G11+'JUN 20'!G11+'JUL 20'!G11+'AGS 20'!G11+'SEP 20'!G11+'OKT 20'!G11+'DESEM 20'!G11+'NOPEMBER 20'!#REF!+#REF! -> #REF! | H11: =+F11+G11 -> #REF! | K11: =+I11+J11 -> 0 | N11: =+L11+M11 -> 0 | Q11: =+O11+P11 -> 0 | R11: 271 | S11: 297 | T11: =+R11+S11 -> 568 | U11: 220 | V11: =+C11+F11-I11+L11-O11 -> #REF! | W11: =+D11+G11-J11+M11-P11 -> #REF! | X11: =+V11+W11 -> #REF!
A12: 3 | B12: PENIDA KAJA | C12: =+'NOPEMBER 20'!#REF! -> #REF! | D12: =+'NOPEMBER 20'!#REF! -> #REF! | E12: =+C12+D12 -> #REF! | F12: =+'JAN 20'!F12+'FEB 20'!F12+'APR 20'!F12+'MEI 20'!F12+'JUN 20'!F12+'JUL 20'!F12+'AGS 20'!F12+'SEP 20'!F12+'OKT 20'!F12+'DESEM 20'!F12+'NOPEMBER 20'!#REF!+#REF! -> #REF! | G12: =+'JAN 20'!G12+'FEB 20'!G12+'APR 20'!G12+'MEI 20'!G12+'JUN 20'!G12+'JUL 20'!G12+'AGS 20'!G12+'SEP 20'!G12+'OKT 20'!G12+'DESEM 20'!G12+'NOPEMBER 20'!#REF!+#REF! -> #REF! | H12: =+F12+G12 -> #REF! | K12: =+I12+J12 -> 0 | N12: =+L12+M12 -> 0 | Q12: =+O12+P12 -> 0 | R12: 345 | S12: 369 | T12: =+R12+S12 -> 714 | U12: 269 | V12: =+C12+F12-I12+L12-O12 -> #REF! | W12: =+D12+G12-J12+M12-P12 -> #REF! | X12: =+V12+W12 -> #REF!
A13: 4 | B13: PENIDA KELOD | C13: =+'NOPEMBER 20'!#REF! -> #REF! | D13: =+'NOPEMBER 20'!#REF! -> #REF! | E13: =+C13+D13 -> #REF! | F13: =+'JAN 20'!F13+'FEB 20'!F13+'APR 20'!F13+'MEI 20'!F13+'JUN 20'!F13+'JUL 20'!F13+'AGS 20'!F13+'SEP 20'!F13+'OKT 20'!F13+'DESEM 20'!F13+'NOPEMBER 20'!#REF!+#REF! -> #REF! | G13: =+'JAN 20'!G13+'FEB 20'!G13+'APR 20'!G13+'MEI 20'!G13+'JUN 20'!G13+'JUL 20'!G13+'AGS 20'!G13+'SEP 20'!G13+'OKT 20'!G13+'DESEM 20'!G13+'NOPEMBER 20'!#REF!+#REF! -> #REF! | H13: =+F13+G13 -> #REF! | K13: =+I13+J13 -> 0 | L13: 3 | M13: 3 | N13: =+L13+M13 -> 6 | Q13: =+O13+P13 -> 0 | R13: 424 | S13: 428 | T13: =+R13+S13 -> 852 | U13: 314 | V13: =+C13+F13-I13+L13-O13 -> #REF! | W13: =+D13+G13-J13+M13-P13 -> #REF! | X13: =+V13+W13 -> #REF!
A14: 5 | B14: TEMBUKU KAJA | C14: =+'NOPEMBER 20'!#REF! -> #REF! | D14: =+'NOPEMBER 20'!#REF! -> #REF! | E14: =+C14+D14 -> #REF! | F14: =+'JAN 20'!F14+'FEB 20'!F14+'APR 20'!F14+'MEI 20'!F14+'JUN 20'!F14+'JUL 20'!F14+'AGS 20'!F14+'SEP 20'!F14+'OKT 20'!F14+'DESEM 20'!F14+'NOPEMBER 20'!#REF!+#REF! -> #REF! | G14: =+'JAN 20'!G14+'FEB 20'!G14+'APR 20'!G14+'MEI 20'!G14+'JUN 20'!G14+'JUL 20'!G14+'AGS 20'!G14+'SEP 20'!G14+'OKT 20'!G14+'DESEM 20'!G14+'NOPEMBER 20'!#REF!+#REF! -> #REF! | H14: =+F14+G14 -> #REF! | K14: =+I14+J14 -> 0 | N14: =+L14+M14 -> 0 | Q14: =+O14+P14 -> 0 | R14: 145 | S14: 138 | T14: =+R14+S14 -> 283 | U14: 113 | V14: =+C14+F14-I14+L14-O14 -> #REF! | W14: =+D14+G14-J14+M14-P14 -> #REF! | X14: =+V14+W14 -> #REF!
A15: 6 | B15: TEMBUKU KAWAN | C15: =+'NOPEMBER 20'!#REF! -> #REF! | D15: =+'NOPEMBER 20'!#REF! -> #REF! | E15: =+C15+D15 -> #REF! | F15: =+'JAN 20'!F15+'FEB 20'!F15+'APR 20'!F15+'MEI 20'!F15+'JUN 20'!F15+'JUL 20'!F15+'AGS 20'!F15+'SEP 20'!F15+'OKT 20'!F15+'DESEM 20'!F15+'NOPEMBER 20'!#REF!+#REF! -> #REF! | G15: =+'JAN 20'!G15+'FEB 20'!G15+'APR 20'!G15+'MEI 20'!G15+'JUN 20'!G15+'JUL 20'!G15+'AGS 20'!G15+'SEP 20'!G15+'OKT 20'!G15+'DESEM 20'!G15+'NOPEMBER 20'!#REF!+#REF! -> #REF! | H15: =+F15+G15 -> #REF! | K15: =+I15+J15 -> 0 | N15: =+L15+M15 -> 0 | Q15: =+O15+P15 -> 0 | R15: 228 | S15: 210 | T15: =+R15+S15 -> 438 | U15: 163 | V15: =+C15+F15-I15+L15-O15 -> #REF! | W15: =+D15+G15-J15+M15-P15 -> #REF! | X15: =+V15+W15 -> #REF!
A16: 7 | B16: TEMBUKU BAKAS | C16: =+'NOPEMBER 20'!#REF! -> #REF! | D16: =+'NOPEMBER 20'!#REF! -> #REF! | E16: =+C16+D16 -> #REF! | F16: =+'JAN 20'!F16+'FEB 20'!F16+'APR 20'!F16+'MEI 20'!F16+'JUN 20'!F16+'JUL 20'!F16+'AGS 20'!F16+'SEP 20'!F16+'OKT 20'!F16+'DESEM 20'!F16+'NOPEMBER 20'!#REF!+#REF! -> #REF! | G16: =+'JAN 20'!G16+'FEB 20'!G16+'APR 20'!G16+'MEI 20'!G16+'JUN 20'!G16+'JUL 20'!G16+'AGS 20'!G16+'SEP 20'!G16+'OKT 20'!G16+'DESEM 20'!G16+'NOPEMBER 20'!#REF!+#REF! -> #REF! | H16: =+F16+G16 -> #REF! | K16: =+I16+J16 -> 0 | N16: =+L16+M16 -> 0 | Q16: =+O16+P16 -> 0 | R16: 139 | S16: 210 | T16: =+R16+S16 -> 349 | U16: 124 | V16: =+C16+F16-I16+L16-O16 -> #REF! | W16: =+D16+G16-J16+M16-P16 -> #REF! | X16: =+V16+W16 -> #REF!
A17: 8 | B17: TEMBUKU SESETAN | C17: =+'NOPEMBER 20'!#REF! -> #REF! | D17: =+'NOPEMBER 20'!#REF! -> #REF! | E17: =+C17+D17 -> #REF! | F17: =+'JAN 20'!F17+'FEB 20'!F17+'APR 20'!F17+'MEI 20'!F17+'JUN 20'!F17+'JUL 20'!F17+'AGS 20'!F17+'SEP 20'!F17+'OKT 20'!F17+'DESEM 20'!F17+'NOPEMBER 20'!#REF!+#REF! -> #REF! | G17: =+'JAN 20'!G17+'FEB 20'!G17+'APR 20'!G17+'MEI 20'!G17+'JUN 20'!G17+'JUL 20'!G17+'AGS 20'!G17+'SEP 20'!G17+'OKT 20'!G17+'DESEM 20'!G17+'NOPEMBER 20'!#REF!+#REF! -> #REF! | H17: =+F17+G17 -> #REF! | K17: =+I17+J17 -> 0 | N17: =+L17+M17 -> 0 | Q17: =+O17+P17 -> 0 | R17: 80 | S17: 91 | T17: =+R17+S17 -> 171 | U17: 84 | V17: =+C17+F17-I17+L17-O17 -> #REF! | W17: =+D17+G17-J17+M17-P17 -> #REF! | X17: =+V17+W17 -> #REF!
A19: JUMLAH | C19: =SUM(C10:C18) -> #REF! | D19: =SUM(D10:D18) -> #REF! | E19: =SUM(E10:E18) -> #REF! | F19: =SUM(F10:F18) -> #REF! | G19: =SUM(G10:G18) -> #REF! | H19: =SUM(H10:H18) -> #REF! | I19: =SUM(I10:I18) -> 0 | J19: =SUM(J10:J18) -> 0 | ... X19: =SUM(X10:X18) -> #REF!
A22: CATATAN :
B23: PENDATANG | C23: WNI | K23: PINDAH | N23: WNI
C24: L | D24: P | N24: L | O24: P
B25: ANTAR BANJAR | C25: 0 | D25: 1 | K25: ANTAR BANJAR | N25: 0 | O25: 0
B26: ANTAR DESA | C26: 0 | D26: 0 | K26: ANTAR DESA | N26: 0 | O26: 0
B27: ANTAR KECAMATAN | C27: 0 | D27: 0 | K27: ANTAR KECAMATAN | N27: 0 | O27: 0
B28: ANTAR KABUPATEN | C28: 0 | D28: 0 | K28: ANTAR KABUPATEN | N28: 0 | O28: 0
B29: ANTAR PROPINSI | C29: 0 | D29: 0 | K29: ANTAR PROPINSI | N29: 0 | O29: 0
B30: DARI LUAR NEGERI | C30: 0 | D30: 0 | K30: DARI LUAR NEGERI | N30: 0 | O30: 0
B31: JUMLAH | C31: =SUM(C25:C30) -> 0 | D31: =SUM(D25:D30) -> 1 | K31: JUMLAH | N31: =SUM(N25:N30) -> 0 | O31: =SUM(O25:O30) -> 0
B41: NO | C41: NAMA BANJAR | D41: PENDUDUK AWAL BULAN | E41: TAMBAH BULAN INI
D42: WNI JML WNA JMH JMH KK | E42: LAHIR DATANG | I42: KET.
D43: L P L P | E43: L P L P
B50: PENGURANGAN BULAN INI | C50: JUMLAH PENDUDUK AKHIR
B51: MENINGGAL PINDAH | C51: WNI JMH WNA JMH JUMLAH KK | D51: KET.
B52: L P L P | C52: L P L P

Sheet Sheet3
B1: L | C1: P
A2: 0 | B2: 26 | C2: 19
A3: 1 | B3: 13 | C3: 17
A4: 2 | B4: 22 | C4: 21
A5: 3 | B5: 27 | C5: 31
A6: 4 | B6: 39 | C6: 30
A7: 5 | B7: 27 | C7: 35
A8: 6 | B8: 29 | C8: 38
A9: 7 | B9: 42 | C9: 38
A10: 8 | B10: 32 | C10: 41
A11: 9 | B11: 37 | C11: 38
A12: 10 | B12: 29 | C12: 28
A13: 11 | B13: 28 | C13: 31
... A16: 14 | B16: 41 | C16: 22
A17: 15 | B17: 34 | C17: 25 | D17: =SUM(B2:B17) -> 489 | E17: =SUM(C2:C17) -> 476 | F17: =SUM(D17:E17) -> 965
A18: 16 | B18: 33 | C18: 33
A19: 17 | B19: 27 | C19: 36
A20: 18 | B20: 28 | C20: 38
A21: 19 | B21: 36 | C21: 36
A22: 20 | B22: 40 | C22: 33
A23: 21 | B23: 37 | C23: 32
A24: 22 | B24: 37 | C24: 34
A25: 23 | B25: 27 | C25: 30
A26: 24 | B26: 35 | C26: 25
A27: 25 | B27: 38 | C27: 31
A28: 26 | B28: 35 | C28: 29
A29: 27 | B29: 37 | C29: 30
... A66: 64 | B66: 31 | C66: 19
A67: 65 | B67: 34 | C67: 22 | D67: =SUM(B17:C67) -> 3455
A68: 66 | B68: 19 | C68: 25
A69: 67 | B69: 33 | C69: 34
A70: 68 | B70: 16 | C70: 17
A71: 69 | B71: 17 | C71: 22
A72: 70 | B72: 21 | C72: 19
A73: 71 | B73: 23 | C73: 24
A74: 72 | B74: 26 | C74: 31
A75: 73 | B75: 24 | C75: 29
A76: 74 | B76: 10 | C76: 30
A77: 75 | B77: 10 | C77: 25
A78: Lebih | B78: 158 | C78: 300 | D78: =SUM(B67:C78) -> 969
...

Sheet Sheet2
C2: laki | D2: perempuan
B3: 0 | C3: 17 | D3: 22
B4: 1 | C4: 32 | D4: 50
B5: 2 | C5: 20 | D5: 33
B6: 3 | C6: 26 | D6: 36
B7: 4 | C7: 37 | D7: 42
B8: 5 | C8: 31 | D8: 38
B9: 6 | C9: 33 | D9: 39
B10: 7 | C10: 36 | D10: 34 | E10: =SUM(C10:C21) -> 445 | F10: =SUM(D10:D21) -> 433
B11: 8 | C11: 29 | D11: 32
B12: 9 | C12: 27 | D12: 39
B13: 10 | C13: 40 | D13: 33
B14: 11 | C14: 41 | D14: 33 | E14: =SUM(C10:D18) -> 670
B15: 12 | C15: 43 | D15: 32
B16: 13 | C16: 45 | D16: 50
B17: 14 | C17: 30 | D17: 38
B18: 15 | C18: 45 | D18: 43
B19: 16 | C19: 34 | D19: 39
B20: 17 | C20: 41 | D20: 30
B21: 18 | C21: 34 | D21: 30 | E21: =SUM(C21:C59) -> 1452 | F21: =SUM(D21:D59) -> 1470 | G21: =SUM(E21:F21) -> 2922
B22: 19 | C22: 31 | D22: 39 | E22: =SUM(C21:C21:C26) -> 224 | F22: =SUM(D21:D21:D26) -> 206
B23: 20 | C23: 33 | D23: 28
B24: 21 | C24: 39 | D24: 34
B25: 22 | C25: 37 | D25: 40
B26: 23 | C26: 50 | D26: 35
B27: 24 | C27: 31 | D27: 35
B28: 25 | C28: 30 | D28: 37
B29: 26 | C29: 36 | D29: 34
B30: 27 | C30: 34 | D30: 28
B31: 28 | C31: 35 | D31: 42
B32: 29 | C32: 46 | D32: 38
B33: 30 | C33: 43 | D33: 30
B34: 31 | C34: 46 | D34: 53
... B52: 49 | C52: 33 | D52: 40
B53: 50 | C53: 49 | D53: 29 | E53: =SUM(C53:C59) -> 214 | F53: =SUM(D53:D59) -> 217
B54: 51 | C54: 28 | D54: 30
B55: 52 | C55: 27 | D55: 48
B56: 53 | C56: 37 | D56: 25
B57: 54 | C57: 27 | D57: 26
B58: 55 | C58: 22 | D58: 22
...

Sheet 0

Sheet JAN 2021
A2: PEMERINTAH KABUPATEN BANGLI
A3: KECAMATAN TEMBUKU, PERBEKEL DESA TEMBUKU
A5: LAPORAN PENDUDUK
A6: BULAN : JANUARI 2021
V7: WARGA NEGARA R.I
A8: NO | B8: BANJAR DINAS | C8: PENDUDUK AWAL BULAN INI | F8: LAHIR BULAN INI | I8: MENINGGAL BULAN INI | L8: PENDATANG BULAN INI | O8: PINDAH BULAN INI | R8: DP.4 (17 Th Ke Atas) | U8: JMLH KK | V8: PENDUDUK AKHIR BULAN INI
C9: L | D9: P | E9: L+P | F9: L | G9: P | H9: L+P | I9: L | J9: P | K9: L+P | L9: L | M9: P | N9: L+P | O9: L | P9: P | Q9: L+P | R9: L | S9: P | T9: L+P | V9: L | W9: P | X9: L+P
A10: 1 | B10: KEDUI | C10: 312 | D10: 323 | E10: 635 | J10: 1 | K10: 1 | N10: =+L10+M10 -> 0 | R10: 233 | S10: 239 | T10: =R10+S10 -> 472 | U10: 191 | V10: =C10+F10-I10+L10-O10 -> 312 | W10: =D10+G10-J10+M10-P10 -> 322 | X10: =+V10+W10 -> 634
A11: 2 | B11: TEGALASAH | C11: 216 | D11: 240 | E11: =+C11+D11 -> 456 | F11: 1 | H11: 1 | R11: 165 | S11: 187 | T11: =R11+S11 -> 352 | U11: 140 | V11: =C11+F11-I11+L11-O11 -> 217 | W11: =D11+G11-J11+M11-P11 -> 240 | X11: =+V11+W11 -> 457
A12: 3 | B12: PENIDA KAJA | C12: 497 | D12: 513 | E12: =+C12+D12 -> 1010 | F12: 2 | G12: 1 | H12: 3 | I12: 1 | K12: 1 | N12: =+L12+M12 -> 0 | Q12: =+O12+P12 -> 0 | R12: 416 | S12: 411 | T12: =R12+S12 -> 827 | U12: 299 | V12: =C12+F12-I12+L12-O12 -> 498 | W12: =D12+G12-J12+M12-P12 -> 514 | X12: =+V12+W12 -> 1012
A13: 4 | B13: PENIDA KELOD | C13: 586 | D13: 614 | E13: =+C13+D13 -> 1200 | J13: 3 | K13: 3 | R13: 448 | S13: 467 | T13: =R13+S13 -> 915 | U13: 368 | V13: =C13+F13-I13+L13-O13 -> 586 | W13: =D13+G13-J13+M13-P13 -> 611 | X13: =+V13+W13 -> 1197
A14: 5 | B14: TEMBUKU KAJA | C14: 207 | D14: 215 | E14: =+C14+D14 -> 422 | H14: =+F14+G14 -> 0 | K14: =+I14+J14 -> 0 | N14: =+L14+M14 -> 0 | Q14: =+O14+P14 -> 0 | R14: 160 | S14: 149 | T14: =R14+S14 -> 309 | U14: 130 | V14: =C14+F14-I14+L14-O14 -> 207 | W14: =D14+G14-J14+M14-P14 -> 215 | X14: =+V14+W14 -> 422
A15: 6 | B15: TEMBUKU KAWAN | C15: =+'FEB 20'!V15 -> 295 | D15: =+'FEB 20'!W15 -> 290 | E15: =+C15+D15 -> 585 | H15: =+F15+G15 -> 0 | K15: =+I15+J15 -> 0 | N15: =+L15+M15 -> 0 | Q15: =+O15+P15 -> 0 | R15: 186 | S15: 196 | T15: =R15+S15 -> 382 | U15: 166 | V15: =C15+F15-I15+L15-O15 -> 295 | W15: =D15+G15-J15+M15-P15 -> 290 | X15: =+V15+W15 -> 585
A16: 7 | B16: TEMBUKU BAKAS | C16: 199 | D16: 200 | E16: =+C16+D16 -> 399 | G16: 1 | H16: =+F16+G16 -> 1 | K16: =+I16+J16 -> 0 | N16: =+L16+M16 -> 0 | Q16: =+O16+P16 -> 0 | R16: 179 | S16: 164 | T16: =R16+S16 -> 343 | U16: 134 | V16: =C16+F16-I16+L16-O16 -> 199 | W16: =D16+G16-J16+M16-P16 -> 201 | X16: =+V16+W16 -> 400
A17: 8 | B17: TEMBUKU SESETAN | C17: 126 | D17: 207 | E17: =+C17+D17 -> 333 | H17: =+F17+G17 -> 0 | K17: =+I17+J17 -> 0 | N17: =+L17+M17 -> 0 | P17: 1 | Q17: =+O17+P17 -> 1 | R17: 155 | S17: 165 | T17: =R17+S17 -> 320 | U17: 103 | V17: =C17+F17-I17+L17-O17 -> 126 | W17: =D17+G17-J17+M17-P17 -> 206 | X17: =+V17+W17 -> 332
A18: 9 | B18: TEGALASAH KAJA | C18: 140 | D18: 151 | E18: 291 | R18: 117 | S18: 118 | T18: =R18+S18 -> 235 | U18: 89 | V18: =C18+F18-I18+L18-O18 -> 140 | W18: =D18+G18-J18+M18-P18 -> 151 | X18: 291
